BEGIN:VCALENDAR
VERSION:2.0
PRODID:-//Naître en Alsace - ECPv6.9.0//NONSGML v1.0//EN
CALSCALE:GREGORIAN
METHOD:PUBLISH
X-WR-CALNAME:Naître en Alsace
X-ORIGINAL-URL:https://nea.mediweb.co
X-WR-CALDESC:Évènements pour Naître en Alsace
REFRESH-INTERVAL;VALUE=DURATION:PT1H
X-Robots-Tag:noindex
X-PUBLISHED-TTL:PT1H
BEGIN:VTIMEZONE
TZID:Europe/Paris
BEGIN:DAYLIGHT
TZOFFSETFROM:+0100
TZOFFSETTO:+0200
TZNAME:CEST
DTSTART:20180325T010000
END:DAYLIGHT
BEGIN:STANDARD
TZOFFSETFROM:+0200
TZOFFSETTO:+0100
TZNAME:CET
DTSTART:20181028T010000
END:STANDARD
END:VTIMEZONE
BEGIN:VEVENT
DTSTART;VALUE=DATE:20180405
DTEND;VALUE=DATE:20180408
DTSTAMP:20260422T223053
CREATED:20180321T085445Z
LAST-MODIFIED:20180321T085445Z
UID:7411-1522886400-1523145599@nea.mediweb.co
SUMMARY:Journées de médecine fœtale
DESCRIPTION:Nous avons l’immense plaisir de vous annoncer que les Journées de Médecine Fœtale 2018 se dérouleront à Marseille\, plus précisément autour de l’écrin du Vieux Port. \nSoyez assurés que la Philosophie et l’esprit du congrès\, les moments de convivialité et d’échanges perdureront dans ce nouveau lieu pour les années à venir grâce à votre fidélité. \nLa volonté d’excellence et de pluridisciplinarité des conférences plénières ainsi que des ateliers seront également une constante omniprésente dans le programme que vous découvrirez dans les prochaines semaines. \nNous vous donnons rendez-vous au Palais du Pharo\, site d’évènements prestigieux qui domine le Vieux Port de Marseille et qui recevra le congrès du mercredi 4 au samedi 7 avril 2018. \nTrès Amicalement à tous. \nLe Comité Scientifique.\nL.BIDAT A.BENACHI L.GUIBAUD D.SANLAVILLE G.GORINCOUR \nPour en savoir plus\, cliquez ici.
URL:https://nea.mediweb.co/event/journees-de-medecine-foetale/
LOCATION:Palais du Pharo\, 58 boulevard Charles Livon\, Marseille\, France
CATEGORIES:Evénements nationaux et internationaux
ATTACH;FMTTYPE=image/jpeg:https://nea.mediweb.co/wp-content/uploads/2018/03/2018_04_JMF-e1521622447164.jpg
END:VEVENT
BEGIN:VEVENT
DTSTART;VALUE=DATE:20180405
DTEND;VALUE=DATE:20180408
DTSTAMP:20260422T223053
CREATED:20180321T085445Z
LAST-MODIFIED:20180321T085445Z
UID:7856-1522886400-1523145599@nea.mediweb.co
SUMMARY:Journées de médecine fœtale
DESCRIPTION:Nous avons l’immense plaisir de vous annoncer que les Journées de Médecine Fœtale 2018 se dérouleront à Marseille\, plus précisément autour de l’écrin du Vieux Port.\nSoyez assurés que la Philosophie et l’esprit du congrès\, les moments de convivialité et d’échanges perdureront dans ce nouveau lieu pour les années à venir grâce à votre fidélité.\nLa volonté d’excellence et de pluridisciplinarité des conférences plénières ainsi que des ateliers seront également une constante omniprésente dans le programme que vous découvrirez dans les prochaines semaines.\nNous vous donnons rendez-vous au Palais du Pharo\, site d’évènements prestigieux qui domine le Vieux Port de Marseille et qui recevra le congrès du mercredi 4 au samedi 7 avril 2018.\nTrès Amicalement à tous.\nLe Comité Scientifique.\nL.BIDAT A.BENACHI L.GUIBAUD D.SANLAVILLE G.GORINCOUR \nPour en savoir plus\, cliquez ici.
URL:https://nea.mediweb.co/event/journees-de-medecine-foetale-2/
LOCATION:Palais du Pharo\, 58 boulevard Charles Livon\, Marseille\, France
CATEGORIES:Evénements nationaux et internationaux
ATTACH;FMTTYPE=image/jpeg:https://nea.mediweb.co/wp-content/uploads/2018/03/2018_04_JMF-e1521622447164.jpg
END:VEVENT
BEGIN:VEVENT
DTSTART;VALUE=DATE:20180405
DTEND;VALUE=DATE:20180408
DTSTAMP:20260422T223053
CREATED:20180321T094103Z
LAST-MODIFIED:20180321T094103Z
UID:7857-1522886400-1523145599@nea.mediweb.co
SUMMARY:CMGF 2018
DESCRIPTION:Le Congrès de la Médecine Générale (CMGF) a été créé par et pour les médecins généralistes.\n\n\nL’édition 2018 vous prépare environs 15 plénières\, 13 ateliers structures\, 35 communications orales\, 6 sessions anglophones\, de nombreux posters\, des ateliers gestes techniques et autres nouvelles sessions.\nPour en savoir plus\, cliquez ici.
URL:https://nea.mediweb.co/event/cmgf-2018-2/
LOCATION:Palais des Congrès de Paris\, 2 place de la Porte Maillot\, Paris\, France
CATEGORIES:Evénements nationaux et internationaux
END:VEVENT
END:VCALENDAR