BEGIN:VCALENDAR
VERSION:2.0
PRODID:-//Naître en Alsace - ECPv6.9.0//NONSGML v1.0//EN
CALSCALE:GREGORIAN
METHOD:PUBLISH
X-WR-CALNAME:Naître en Alsace
X-ORIGINAL-URL:https://nea.mediweb.co
X-WR-CALDESC:Évènements pour Naître en Alsace
REFRESH-INTERVAL;VALUE=DURATION:PT1H
X-Robots-Tag:noindex
X-PUBLISHED-TTL:PT1H
BEGIN:VTIMEZONE
TZID:Europe/Paris
BEGIN:DAYLIGHT
TZOFFSETFROM:+0100
TZOFFSETTO:+0200
TZNAME:CEST
DTSTART:20210328T010000
END:DAYLIGHT
BEGIN:STANDARD
TZOFFSETFROM:+0200
TZOFFSETTO:+0100
TZNAME:CET
DTSTART:20211031T010000
END:STANDARD
END:VTIMEZONE
BEGIN:VEVENT
DTSTART;TZID=Europe/Paris:20211123T080000
DTEND;TZID=Europe/Paris:20211123T170000
DTSTAMP:20260423T002255
CREATED:20211027T085825Z
LAST-MODIFIED:20211027T085825Z
UID:10191-1637654400-1637686800@nea.mediweb.co
SUMMARY:LES DROITS DES FEMMES A L'ÉPREUVE DES CRISES
DESCRIPTION:LES DROITS DES FEMMES A L’ÉPREUVE DES CRISES \n23 NOVEMBRE 2021\nColloque lutte contre les violence faites aux femmes\nLieu : Palais de la musique et des Congrès\, Strasbourg \nProgramme\nCrises et droits des femmes : perspective historique \nEtat des lieux \n\nL’impact multiforme et systémique de la crise sanitaire sur les inégalités de genre\nCrise sanitaire\, quelles menaces pour les droits des femmes en Europe ?\n\nEmploi des femmes et violences économiques \n\nFemmes providentielles mais femmes invisibles et sous payées\nLa crise\, régression ou opportunité pour plus d’égalité ?\n\nTable ronde à quatre voix \nPAUSE DEJ \nLa demande d’égalité et le projet d’une société du « care » \nTable ronde : Nouvelles dynamiques partenariales et retours d’expériences dans la prise en charge des femmes victimes de violences \n\nPrécédée d’une projection : « Témoignages de professionnels.les »\n\nQuelles perspectives pour les droits des femmes dans le « monde d’après » ? \nTélécharger le programme \nInscription obligatoire\n\nPour vous inscrire en ligne\, cliquez ici.\nPour plus d’information : \nMission droits des femmes et égalité de genre\n1 parc de l’étoile – 67076 Strasbourg Cedex \n\nSite Internet : www.strasbourg.eu\nTél : +33 (0)3 68 98 51 04\nMail : missiondroitsdesfemmesetegalitedegenre@strasbourg.eu\nFacebook : mdf.strasbourg
URL:https://nea.mediweb.co/event/les-droits-des-femmes-a-lepreuve-des-crises/
LOCATION:Palais de la musique et des congrès\, Place de Bordeaux\, Strasbourg\, Sélectionner un État :\, 67000\, France
CATEGORIES:Evénements régionaux
ATTACH;FMTTYPE=image/png:https://nea.mediweb.co/wp-content/uploads/2021/10/VFAF.png
END:VEVENT
END:VCALENDAR