BEGIN:VCALENDAR
VERSION:2.0
PRODID:-//Naître en Alsace - ECPv6.9.0//NONSGML v1.0//EN
CALSCALE:GREGORIAN
METHOD:PUBLISH
X-ORIGINAL-URL:https://nea.mediweb.co
X-WR-CALDESC:Évènements pour Naître en Alsace
REFRESH-INTERVAL;VALUE=DURATION:PT1H
X-Robots-Tag:noindex
X-PUBLISHED-TTL:PT1H
BEGIN:VTIMEZONE
TZID:Europe/Paris
BEGIN:DAYLIGHT
TZOFFSETFROM:+0100
TZOFFSETTO:+0200
TZNAME:CEST
DTSTART:20220327T010000
END:DAYLIGHT
BEGIN:STANDARD
TZOFFSETFROM:+0200
TZOFFSETTO:+0100
TZNAME:CET
DTSTART:20221030T010000
END:STANDARD
END:VTIMEZONE
BEGIN:VEVENT
DTSTART;TZID=Europe/Paris:20220517T150000
DTEND;TZID=Europe/Paris:20220517T160000
DTSTAMP:20260422T073047
CREATED:20211110T150430Z
LAST-MODIFIED:20220425T140428Z
UID:10211-1652799600-1652803200@nea.mediweb.co
SUMMARY:Assemblée Générale Ordinaire de la COPEGE 2022
DESCRIPTION:Mesdames\, Messieurs les Membres des Réseaux de Santé en Périnatalité de la Fédération CoPéGE (Naitre en Alsace\, Réseau Périnatal de Champagne-Ardenne\, Réseau Périnatal Lorrain) \nMesdames\, Messieurs les Membres du Conseil d’Administration de la Fédération CoPéGE \nJ’ai le plaisir de vous convier à l’Assemblée Générale Ordinaire (AGO) de la Coordination Périnatale Grand Est (CoPéGE) qui se tiendra le  mardi 17 mai 2022\, de 15h à 16h en présentiel\, au CHU de Reims\, Salle Alix de Champagne – 2ème étage – Maternité CHU de Reims – 45 Rue Cognacq-Jay\, 51100 Reims \net en visioconférence via Teams \nMicrosoft Teams  Cliquez ici pour participer à la réunion \n(Rejoindre sur votre ordinateur ou application mobile – au moment de votre connexion\, il est nécessaire de vous identifier par votre Nom/Prénom et dans la mesure du possible d’indiquer votre structure) \nOrdre du jour\n\n\nPrésentation du rapport moral et d’activité 2021 : ​discussion – vote​\nPrésentation des comptes de résultats 2021 : ​discussion – vote​\n\n– Bilan financier 2021 \n– Rapport 2021 du Commissaire aux Comptes \n– Quitus financier au trésorier \n\nProgramme de travail 2022\nQuestions diverses​\n\n\nPour la bonne organisation de cette Assemblée\, je vous remercie par avance de faire part de votre présence physique à notre coordinatrice : e.rose@chru-nancy.fr avant 10/05/2022. Elle se tient également à votre disposition pour tout renseignement complémentaire (06.23.41.73.33) \nEn vous remerciant pour votre implication\, je vous prie d’agréer\, Mesdames\, Messieurs\, l’expression de ma considération distinguée. \nLa Présidente de la CoPéGE\, \nPr Nathalie BEDNAREK
URL:https://nea.mediweb.co/event/assemblee-generale-ordinaire-de-la-copege/
LOCATION:CHU Reims\, 47 rue Cognacq Jay\, REIMS Cedex\, 54092\, France
CATEGORIES:Evénements régionaux
ATTACH;FMTTYPE=image/png:https://nea.mediweb.co/wp-content/uploads/2021/10/Logo_CoPeGe-01.png
END:VEVENT
END:VCALENDAR