BEGIN:VCALENDAR
VERSION:2.0
PRODID:-//Naître en Alsace - ECPv6.9.0//NONSGML v1.0//EN
CALSCALE:GREGORIAN
METHOD:PUBLISH
X-ORIGINAL-URL:https://nea.mediweb.co
X-WR-CALDESC:Évènements pour Naître en Alsace
REFRESH-INTERVAL;VALUE=DURATION:PT1H
X-Robots-Tag:noindex
X-PUBLISHED-TTL:PT1H
BEGIN:VTIMEZONE
TZID:Europe/Paris
BEGIN:DAYLIGHT
TZOFFSETFROM:+0100
TZOFFSETTO:+0200
TZNAME:CEST
DTSTART:20220327T010000
END:DAYLIGHT
BEGIN:STANDARD
TZOFFSETFROM:+0200
TZOFFSETTO:+0100
TZNAME:CET
DTSTART:20221030T010000
END:STANDARD
END:VTIMEZONE
BEGIN:VEVENT
DTSTART;TZID=Europe/Paris:20220930T080000
DTEND;TZID=Europe/Paris:20220930T170000
DTSTAMP:20260421T214845
CREATED:20220510T114650Z
LAST-MODIFIED:20220511T121619Z
UID:10566-1664524800-1664557200@nea.mediweb.co
SUMMARY:JALON 2022
DESCRIPTION:Journée Formation\nActualité Lorraine en Néonatologie\n\nJALON NANCY 2022 \n\n\n\n\n\n\nCoordinateur scientifique\n\nPr Jean-Michel HASCOËT \n\n\n\n\n 
URL:https://nea.mediweb.co/event/jalon-2022/
LOCATION:Hôtel Mercure Nancy\, Hôtel Mercure Nancy-Gare 11\, rue Poincaré\, NANCY\, 54000\, France
CATEGORIES:Evénements régionaux
ATTACH;FMTTYPE=image/png:https://nea.mediweb.co/wp-content/uploads/2022/05/Jalon_2022.png
END:VEVENT
END:VCALENDAR