BEGIN:VCALENDAR
VERSION:2.0
PRODID:-//Naître en Alsace - ECPv6.9.0//NONSGML v1.0//EN
CALSCALE:GREGORIAN
METHOD:PUBLISH
X-WR-CALNAME:Naître en Alsace
X-ORIGINAL-URL:https://nea.mediweb.co
X-WR-CALDESC:Évènements pour Naître en Alsace
REFRESH-INTERVAL;VALUE=DURATION:PT1H
X-Robots-Tag:noindex
X-PUBLISHED-TTL:PT1H
BEGIN:VTIMEZONE
TZID:Europe/Paris
BEGIN:DAYLIGHT
TZOFFSETFROM:+0100
TZOFFSETTO:+0200
TZNAME:CEST
DTSTART:20220327T010000
END:DAYLIGHT
BEGIN:STANDARD
TZOFFSETFROM:+0200
TZOFFSETTO:+0100
TZNAME:CET
DTSTART:20221030T010000
END:STANDARD
END:VTIMEZONE
BEGIN:VEVENT
DTSTART;TZID=Europe/Paris:20221124T140000
DTEND;TZID=Europe/Paris:20221124T160000
DTSTAMP:20260421T200252
CREATED:20221118T095404Z
LAST-MODIFIED:20221118T095404Z
UID:10754-1669298400-1669305600@nea.mediweb.co
SUMMARY:WEBINAIRE TABAC ET PÉRINATALITÉ
DESCRIPTION:A l’occasion du Mois Sans Tabac plusieurs webinaires gratuits et accessibles sont organisés sur des thématiques en lien avec le Tabac. \nL’ANPAA a le plaisir de vous convier au prochain webinaire portant sur la thématique Tabac et périnatalité\, prévu le jeudi 24 novembre\, de 14h à 16h \n\nPour y participer\, cliquer sur ce lien . \nMerci\, en amont\, vous inscrire ici afin de nous permettre de savoir qui sera présent.
URL:https://nea.mediweb.co/event/webinaire-tabac-et-perinatalite/
LOCATION:Sélectionner un État :
CATEGORIES:Evénements régionaux
ATTACH;FMTTYPE=image/jpeg:https://nea.mediweb.co/wp-content/uploads/2020/09/MOST_evts.jpg
END:VEVENT
END:VCALENDAR