BEGIN:VCALENDAR
VERSION:2.0
PRODID:-//Naître en Alsace - ECPv6.9.0//NONSGML v1.0//EN
CALSCALE:GREGORIAN
METHOD:PUBLISH
X-WR-CALNAME:Naître en Alsace
X-ORIGINAL-URL:https://nea.mediweb.co
X-WR-CALDESC:Évènements pour Naître en Alsace
REFRESH-INTERVAL;VALUE=DURATION:PT1H
X-Robots-Tag:noindex
X-PUBLISHED-TTL:PT1H
BEGIN:VTIMEZONE
TZID:Europe/Paris
BEGIN:DAYLIGHT
TZOFFSETFROM:+0100
TZOFFSETTO:+0200
TZNAME:CEST
DTSTART:20160327T010000
END:DAYLIGHT
BEGIN:STANDARD
TZOFFSETFROM:+0200
TZOFFSETTO:+0100
TZNAME:CET
DTSTART:20161030T010000
END:STANDARD
END:VTIMEZONE
BEGIN:VEVENT
DTSTART;TZID=Europe/Paris:20160913T160000
DTEND;TZID=Europe/Paris:20160913T173000
DTSTAMP:20260424T182223
CREATED:20160902T080234Z
LAST-MODIFIED:20160902T080234Z
UID:7772-1473782400-1473787800@nea.mediweb.co
SUMMARY:Revue de mortalité périnatale 2015
DESCRIPTION:Travail en visioconférence \nContact : Geneviève CREUTZMEYER (03.69.55.35.74/gcreutzmeyer@nea.mediweb.co)
URL:https://nea.mediweb.co/event/revue-de-mortalite-perinatale-2015-2/
LOCATION:Sélectionner un État :
CATEGORIES:Evénements régionaux,Evenements du Réseau Naître en Alsace
END:VEVENT
BEGIN:VEVENT
DTSTART;TZID=Europe/Paris:20160913T160000
DTEND;TZID=Europe/Paris:20160913T173000
DTSTAMP:20260424T182223
CREATED:20160902T080234Z
LAST-MODIFIED:20160902T080234Z
UID:6368-1473782400-1473787800@nea.mediweb.co
SUMMARY:Revue de mortalité périnatale 2015
DESCRIPTION:Travail en visioconférence \nContact : Geneviève CREUTZMEYER (03.69.55.35.74/gcreutzmeyer@nea.mediweb.co)
URL:https://nea.mediweb.co/event/revue-de-mortalite-perinatale-2015/
LOCATION:Sélectionner un État :
CATEGORIES:Evénements régionaux,Evenements du Réseau Naître en Alsace
END:VEVENT
END:VCALENDAR