BEGIN:VCALENDAR
VERSION:2.0
PRODID:-//Naître en Alsace - ECPv6.9.0//NONSGML v1.0//EN
CALSCALE:GREGORIAN
METHOD:PUBLISH
X-ORIGINAL-URL:https://nea.mediweb.co
X-WR-CALDESC:Évènements pour Naître en Alsace
REFRESH-INTERVAL;VALUE=DURATION:PT1H
X-Robots-Tag:noindex
X-PUBLISHED-TTL:PT1H
BEGIN:VTIMEZONE
TZID:Europe/Paris
BEGIN:DAYLIGHT
TZOFFSETFROM:+0100
TZOFFSETTO:+0200
TZNAME:CEST
DTSTART:20160327T010000
END:DAYLIGHT
BEGIN:STANDARD
TZOFFSETFROM:+0200
TZOFFSETTO:+0100
TZNAME:CET
DTSTART:20161030T010000
END:STANDARD
END:VTIMEZONE
BEGIN:VEVENT
DTSTART;TZID=Europe/Paris:20161006T090000
DTEND;TZID=Europe/Paris:20161006T120000
DTSTAMP:20260424T162022
CREATED:20160929T121207Z
LAST-MODIFIED:20160929T121207Z
UID:6419-1475744400-1475755200@nea.mediweb.co
SUMMARY:Les enfants exposés aux violences au sein du couple
DESCRIPTION:La Préfecture du Bas-Rhin (Délégation départementale aux droits des femmes et à l’égalité) et le Centre d’information sur les droits des femmes et des familles (CIDFF 67) organisent une formation interdisciplinaire consacrée aux enfants exposés aux violences au sein du couple : \nles aspects juridiques\nles effets des violences et les impacts psychologiques\nles moyens de protéger ces enfants. \nSébastien Baumert\, juge des enfants\, Claire Metz\, maître de conférences en psychologie clinique\, Lydia Plug\, vice-procureure\, Elisabeth Poulain et Imane ETTOUJI\, psychologues chargées au CIDFF 67 du service « Enfants exposés aux violences au sein du couple »\, interviendront lors de cette matinée. \nTélécharger le flyer
URL:https://nea.mediweb.co/event/les-enfants-exposes-aux-violences-au-sein-du-couple/
LOCATION:Cité administrative Gaujot\, 14 rue du Maréchal Juin\, Strasbourg\, France
CATEGORIES:Evénements régionaux,Evenements du Réseau Naître en Alsace
ATTACH;FMTTYPE=image/jpeg:https://nea.mediweb.co/wp-content/uploads/2016/09/2016_10_violences-e1475150756260.jpg
END:VEVENT
BEGIN:VEVENT
DTSTART;TZID=Europe/Paris:20161006T090000
DTEND;TZID=Europe/Paris:20161006T120000
DTSTAMP:20260424T162022
CREATED:20160929T121207Z
LAST-MODIFIED:20160929T121207Z
UID:7779-1475744400-1475755200@nea.mediweb.co
SUMMARY:Les enfants exposés aux violences au sein du couple
DESCRIPTION:La Préfecture du Bas-Rhin (Délégation départementale aux droits des femmes et à l’égalité) et le Centre d’information sur les droits des femmes et des familles (CIDFF 67) organisent une formation interdisciplinaire consacrée aux enfants exposés aux violences au sein du couple :\nles aspects juridiques\nles effets des violences et les impacts psychologiques\nles moyens de protéger ces enfants.\nSébastien Baumert\, juge des enfants\, Claire Metz\, maître de conférences en psychologie clinique\, Lydia Plug\, vice-procureure\, Elisabeth Poulain et Imane ETTOUJI\, psychologues chargées au CIDFF 67 du service « Enfants exposés aux violences au sein du couple »\, interviendront lors de cette matinée.\nTélécharger le flyer
URL:https://nea.mediweb.co/event/les-enfants-exposes-aux-violences-au-sein-du-couple-2/
LOCATION:Cité administrative Gaujot\, 14 rue du Maréchal Juin\, Strasbourg\, France
CATEGORIES:Evénements régionaux,Evenements du Réseau Naître en Alsace
ATTACH;FMTTYPE=image/jpeg:https://nea.mediweb.co/wp-content/uploads/2016/09/2016_10_violences-e1475150756260.jpg
END:VEVENT
BEGIN:VEVENT
DTSTART;VALUE=DATE:20161007
DTEND;VALUE=DATE:20161008
DTSTAMP:20260424T162022
CREATED:20160905T144455Z
LAST-MODIFIED:20160905T144455Z
UID:6382-1475798400-1475884799@nea.mediweb.co
SUMMARY:Rencontres Nancéiennes de Gynécologie-Obstétrique Centre Prouvé
DESCRIPTION:Les principaux thèmes sont : dystocie des épaules\, post partum\, ré-examen de l’examen gynécologique\, tumeurs bénignes du sein\, hystérectomie pour pathologie bénigne et recherche gynéco-obstétricale. \nTélécharger le bulletin d’inscription\nTélécharger le programme
URL:https://nea.mediweb.co/event/rencontres-nanceiennes-de-gynecologie-obstetrique-centre-prouve/
LOCATION:Centre de Congrès PROUVÉ\, 1 place de la République\, Nancy
CATEGORIES:Evénements régionaux,Evenements du Réseau Naître en Alsace
ATTACH;FMTTYPE=image/jpeg:https://nea.mediweb.co/wp-content/uploads/2016/09/2016_10_07_nancy.jpg
END:VEVENT
BEGIN:VEVENT
DTSTART;VALUE=DATE:20161007
DTEND;VALUE=DATE:20161008
DTSTAMP:20260424T162022
CREATED:20160905T144455Z
LAST-MODIFIED:20160905T144455Z
UID:7774-1475798400-1475884799@nea.mediweb.co
SUMMARY:Rencontres Nancéiennes de Gynécologie-Obstétrique Centre Prouvé
DESCRIPTION:Les principaux thèmes sont : dystocie des épaules\, post partum\, ré-examen de l’examen gynécologique\, tumeurs bénignes du sein\, hystérectomie pour pathologie bénigne et recherche gynéco-obstétricale.\nTélécharger le bulletin d’inscription\nTélécharger le programme
URL:https://nea.mediweb.co/event/rencontres-nanceiennes-de-gynecologie-obstetrique-centre-prouve-2/
LOCATION:Centre de Congrès PROUVÉ\, 1 place de la République\, Nancy
CATEGORIES:Evénements régionaux,Evenements du Réseau Naître en Alsace
ATTACH;FMTTYPE=image/jpeg:https://nea.mediweb.co/wp-content/uploads/2016/09/2016_10_07_nancy.jpg
END:VEVENT
BEGIN:VEVENT
DTSTART;VALUE=DATE:20161010
DTEND;VALUE=DATE:20161012
DTSTAMP:20260424T162022
CREATED:20160905T154008Z
LAST-MODIFIED:20160905T154008Z
UID:6396-1476057600-1476230399@nea.mediweb.co
SUMMARY:Journées de formation sur les violences faites aux femmes
DESCRIPTION:Thème : Les politiques publiques\, les mécanismes\, le droit\, la prise en charge et l’accompagnement des victimes \nLe Centre d’information sur les droits des femmes et des familles (CIDFF) et la mission départementale aux droits des femmes et à l’égalité proposent deux journées de formation à Sélestat\, sur la question des violences faites aux femmes. \nCette formation est destinée à tout-e professionnel-le susceptible de prendre en charge une victime : personnels de santé\, travailleurs sociaux\, avocats\, enseignants\, gendarmes\, policiers\, éducateurs\, responsables de centres communaux d’action sociale\, salariés et bénévoles des associations et des centres d’accueil et d’hébergement\,… \nCes deux journées sont animées par des intervenant-e-s qualifié-e-s (juristes\, psychologues\, responsables d’associations spécialisées\, police et gendarmerie)\, qui apporteront des éléments sur les mécanismes des violences\, la législation\, l’accompagnement des victimes et des auteurs de violences. \nCette formation permettra l’amélioration de la prise en charge des victimes\, ainsi que l’échange de bonnes pratiques et la constitution d’un réseau. \nFormation gratuite\, sur inscription (30 places) \nRenseignements et inscriptions\nCentre d’information sur les droits des femmes et des familles (CIDFF)\nTél. : 03 88 32 03 22 – mail : skhattab@cidff67.fr \nTélécharger le programme
URL:https://nea.mediweb.co/event/journees-de-formation-sur-les-violences-faites-aux-femmes/
LOCATION:Caserne de gendarmerie Castaing\, 1 rue de la Paix\, Sélestat
CATEGORIES:Evénements régionaux,Evenements du Réseau Naître en Alsace
ATTACH;FMTTYPE=image/jpeg:https://nea.mediweb.co/wp-content/uploads/2016/09/2016_10_10_violences-e1473089837159.jpg
END:VEVENT
BEGIN:VEVENT
DTSTART;VALUE=DATE:20161010
DTEND;VALUE=DATE:20161012
DTSTAMP:20260424T162022
CREATED:20160905T154008Z
LAST-MODIFIED:20160905T154008Z
UID:7776-1476057600-1476230399@nea.mediweb.co
SUMMARY:Journées de formation sur les violences faites aux femmes
DESCRIPTION:Thème : Les politiques publiques\, les mécanismes\, le droit\, la prise en charge et l’accompagnement des victimes \nLe Centre d’information sur les droits des femmes et des familles (CIDFF) et la mission départementale aux droits des femmes et à l’égalité proposent deux journées de formation à Sélestat\, sur la question des violences faites aux femmes.\nCette formation est destinée à tout-e professionnel-le susceptible de prendre en charge une victime : personnels de santé\, travailleurs sociaux\, avocats\, enseignants\, gendarmes\, policiers\, éducateurs\, responsables de centres communaux d’action sociale\, salariés et bénévoles des associations et des centres d’accueil et d’hébergement\,…\nCes deux journées sont animées par des intervenant-e-s qualifié-e-s (juristes\, psychologues\, responsables d’associations spécialisées\, police et gendarmerie)\, qui apporteront des éléments sur les mécanismes des violences\, la législation\, l’accompagnement des victimes et des auteurs de violences.\nCette formation permettra l’amélioration de la prise en charge des victimes\, ainsi que l’échange de bonnes pratiques et la constitution d’un réseau.\nFormation gratuite\, sur inscription (30 places)\nRenseignements et inscriptions\nCentre d’information sur les droits des femmes et des familles (CIDFF)\nTél. : 03 88 32 03 22 – mail : skhattab@cidff67.fr\nTélécharger le programme
URL:https://nea.mediweb.co/event/journees-de-formation-sur-les-violences-faites-aux-femmes-2/
LOCATION:Caserne de gendarmerie Castaing\, 1 rue de la Paix\, Sélestat
CATEGORIES:Evénements régionaux,Evenements du Réseau Naître en Alsace
ATTACH;FMTTYPE=image/jpeg:https://nea.mediweb.co/wp-content/uploads/2016/09/2016_10_10_violences-e1473089837159.jpg
END:VEVENT
BEGIN:VEVENT
DTSTART;VALUE=DATE:20161015
DTEND;VALUE=DATE:20161016
DTSTAMP:20260424T162022
CREATED:20161013T093503Z
LAST-MODIFIED:20161013T094104Z
UID:6509-1476489600-1476575999@nea.mediweb.co
SUMMARY:Portes ouvertes à MANALA
DESCRIPTION:Après Nancy\, Saint Paul (La Réunion)\, Paris et Bourgoin Jallieu\, MANALA – MAison de Naissance en ALsAce est heureuse de vous annoncer son ouverture à Sélestat (67). \nTélécharger l’invitation
URL:https://nea.mediweb.co/event/manala-portes-ouvertes/
LOCATION:Sélectionner un État :
CATEGORIES:Evénements régionaux,Evenements du Réseau Naître en Alsace
ATTACH;FMTTYPE=image/jpeg:https://nea.mediweb.co/wp-content/uploads/2016/10/2016_10_15_Manala-e1476351136570.jpg
END:VEVENT
BEGIN:VEVENT
DTSTART;VALUE=DATE:20161015
DTEND;VALUE=DATE:20161016
DTSTAMP:20260424T162022
CREATED:20161013T093503Z
LAST-MODIFIED:20161013T093503Z
UID:7783-1476489600-1476575999@nea.mediweb.co
SUMMARY:Portes ouvertes à MANALA
DESCRIPTION:Après Nancy\, Saint Paul (La Réunion)\, Paris et Bourgoin Jallieu\, MANALA – MAison de Naissance en ALsAce est heureuse de vous annoncer son ouverture à Sélestat (67).\nTélécharger l’invitation
URL:https://nea.mediweb.co/event/manala-portes-ouvertes-2/
LOCATION:Sélectionner un État :
CATEGORIES:Evénements régionaux,Evenements du Réseau Naître en Alsace
ATTACH;FMTTYPE=image/jpeg:https://nea.mediweb.co/wp-content/uploads/2016/10/2016_10_15_Manala-e1476351136570.jpg
END:VEVENT
END:VCALENDAR