BEGIN:VCALENDAR
VERSION:2.0
PRODID:-//Naître en Alsace - ECPv6.9.0//NONSGML v1.0//EN
CALSCALE:GREGORIAN
METHOD:PUBLISH
X-ORIGINAL-URL:https://nea.mediweb.co
X-WR-CALDESC:Évènements pour Naître en Alsace
REFRESH-INTERVAL;VALUE=DURATION:PT1H
X-Robots-Tag:noindex
X-PUBLISHED-TTL:PT1H
BEGIN:VTIMEZONE
TZID:Europe/Paris
BEGIN:DAYLIGHT
TZOFFSETFROM:+0100
TZOFFSETTO:+0200
TZNAME:CEST
DTSTART:20160327T010000
END:DAYLIGHT
BEGIN:STANDARD
TZOFFSETFROM:+0200
TZOFFSETTO:+0100
TZNAME:CET
DTSTART:20161030T010000
END:STANDARD
END:VTIMEZONE
BEGIN:VEVENT
DTSTART;VALUE=DATE:20161209
DTEND;VALUE=DATE:20161210
DTSTAMP:20260424T124656
CREATED:20161013T155339Z
LAST-MODIFIED:20161013T155339Z
UID:7784-1481241600-1481327999@nea.mediweb.co
SUMMARY:Journée régionale de formation sur les médicaments biosimilaires
DESCRIPTION:Thème : Les médicaments biosimilaires : à vos marques\, prêts\, prescrivez \nConsulter le programme\nS’inscrire
URL:https://nea.mediweb.co/event/journee-regionale-de-formation-sur-les-medicaments-biosimilaires-2/
LOCATION:Palais de la musique et des congrès\, Place de Bordeaux\, Strasbourg\, Sélectionner un État :\, 67000\, France
CATEGORIES:Evénements régionaux,Evenements du Réseau Naître en Alsace
ATTACH;FMTTYPE=image/jpeg:https://nea.mediweb.co/wp-content/uploads/2016/10/2016_12_Med_biosimilaires-e1476373671183.jpg
END:VEVENT
BEGIN:VEVENT
DTSTART;VALUE=DATE:20161209
DTEND;VALUE=DATE:20161210
DTSTAMP:20260424T124656
CREATED:20161013T155339Z
LAST-MODIFIED:20161013T155339Z
UID:6515-1481241600-1481327999@nea.mediweb.co
SUMMARY:Journée régionale de formation sur les médicaments biosimilaires
DESCRIPTION:Thème : Les médicaments biosimilaires : à vos marques\, prêts\, prescrivez \nConsulter le programme\nS’inscrire
URL:https://nea.mediweb.co/event/journee-regionale-de-formation-sur-les-medicaments-biosimilaires/
LOCATION:Palais de la musique et des congrès\, Place de Bordeaux\, Strasbourg\, Sélectionner un État :\, 67000\, France
CATEGORIES:Evénements régionaux,Evenements du Réseau Naître en Alsace
ATTACH;FMTTYPE=image/jpeg:https://nea.mediweb.co/wp-content/uploads/2016/10/2016_12_Med_biosimilaires-e1476373671183.jpg
END:VEVENT
END:VCALENDAR