BEGIN:VCALENDAR
VERSION:2.0
PRODID:-//Naître en Alsace - ECPv6.9.0//NONSGML v1.0//EN
CALSCALE:GREGORIAN
METHOD:PUBLISH
X-WR-CALNAME:Naître en Alsace
X-ORIGINAL-URL:https://nea.mediweb.co
X-WR-CALDESC:Évènements pour Naître en Alsace
REFRESH-INTERVAL;VALUE=DURATION:PT1H
X-Robots-Tag:noindex
X-PUBLISHED-TTL:PT1H
BEGIN:VTIMEZONE
TZID:Europe/Paris
BEGIN:DAYLIGHT
TZOFFSETFROM:+0100
TZOFFSETTO:+0200
TZNAME:CEST
DTSTART:20170326T010000
END:DAYLIGHT
BEGIN:STANDARD
TZOFFSETFROM:+0200
TZOFFSETTO:+0100
TZNAME:CET
DTSTART:20171029T010000
END:STANDARD
END:VTIMEZONE
BEGIN:VEVENT
DTSTART;VALUE=DATE:20170401
DTEND;VALUE=DATE:20170402
DTSTAMP:20260424T052121
CREATED:20170209T093258Z
LAST-MODIFIED:20170209T093258Z
UID:7805-1491004800-1491091199@nea.mediweb.co
SUMMARY:Séminaire EVE
DESCRIPTION:Séminaire commun aux ACP et gynécologues organisé par l’Association pour la prévention du cancer du col de l’utérus Ève.\nPour télécharger le programme\, cliquez ici.\nPour plus d’information\, cliquez ici.
URL:https://nea.mediweb.co/event/seminaire-eve-2/
LOCATION:Faculté de Chirurgie Dentaire\, 6 Rue Sainte Elisabeth\, Strasbourg\, France
CATEGORIES:Evénements régionaux,Evenements du Réseau Naître en Alsace
ATTACH;FMTTYPE=image/jpeg:https://nea.mediweb.co/wp-content/uploads/2017/02/2017_04_EVE.jpg
END:VEVENT
BEGIN:VEVENT
DTSTART;VALUE=DATE:20170401
DTEND;VALUE=DATE:20170402
DTSTAMP:20260424T052121
CREATED:20170209T093258Z
LAST-MODIFIED:20170209T093258Z
UID:6724-1491004800-1491091199@nea.mediweb.co
SUMMARY:Séminaire EVE
DESCRIPTION:Séminaire commun aux ACP et gynécologues organisé par l’Association pour la prévention du cancer du col de l’utérus Ève. \nPour télécharger le programme\, cliquez ici.\nPour plus d’information\, cliquez ici.
URL:https://nea.mediweb.co/event/seminaire-eve/
LOCATION:Faculté de Chirurgie Dentaire\, 6 Rue Sainte Elisabeth\, Strasbourg\, France
CATEGORIES:Evénements régionaux,Evenements du Réseau Naître en Alsace
ATTACH;FMTTYPE=image/jpeg:https://nea.mediweb.co/wp-content/uploads/2017/02/2017_04_EVE.jpg
END:VEVENT
BEGIN:VEVENT
DTSTART;TZID=Europe/Paris:20170404T160000
DTEND;TZID=Europe/Paris:20170404T180000
DTSTAMP:20260424T052121
CREATED:20170222T090321Z
LAST-MODIFIED:20170222T090321Z
UID:7807-1491321600-1491328800@nea.mediweb.co
SUMMARY:RMM du Réseau Naître en Alsace
DESCRIPTION:Une revue de mortalité et de morbidité (RMM) est une analyse collective\, rétrospective et systémique de cas marqués par la survenue d’un décès\, d’une complication ou d’un événement qui aurait pu causer un dommage au patient\, qui a pour objectif la mise en œuvre et le suivi d’actions pour améliorer la prise en charge des patients et la sécurité des soins.\nCette démarche permet de tirer profit de l’analyse des situations s’étant produites pour apprendre et comprendre afin d’agir ensemble pour renforcer la qualité et la sécurité des soins. \nL’inscription est obligatoire. Pour vous inscrire\, cliquez ici.
URL:https://nea.mediweb.co/event/rmm-du-reseau-naitre-en-alsace-2/
LOCATION:IFSI de Colmar\, 39\, avenue de la Liberté\, Colmar\, France
CATEGORIES:Evénements régionaux,Evenements du Réseau Naître en Alsace
ATTACH;FMTTYPE=image/jpeg:https://nea.mediweb.co/wp-content/uploads/2017/02/Parentalite_addictions_ev_rmm-e1487753561121.jpg
END:VEVENT
BEGIN:VEVENT
DTSTART;TZID=Europe/Paris:20170404T160000
DTEND;TZID=Europe/Paris:20170404T180000
DTSTAMP:20260424T052121
CREATED:20170222T090321Z
LAST-MODIFIED:20170303T093604Z
UID:6735-1491321600-1491328800@nea.mediweb.co
SUMMARY:RMM du Réseau Naître en Alsace
DESCRIPTION:Une revue de mortalité et de morbidité (RMM) est une analyse collective\, rétrospective et systémique de cas marqués par la survenue d’un décès\, d’une complication ou d’un événement qui aurait pu causer un dommage au patient\, qui a pour objectif la mise en œuvre et le suivi d’actions pour améliorer la prise en charge des patients et la sécurité des soins. \nCette démarche permet de tirer profit de l’analyse des situations s’étant produites pour apprendre et comprendre afin d’agir ensemble pour renforcer la qualité et la sécurité des soins. \nL’inscription est obligatoire. Pour vous inscrire\, cliquez ici.
URL:https://nea.mediweb.co/event/rmm-du-reseau-naitre-en-alsace/
LOCATION:IFSI de Colmar\, 39\, avenue de la Liberté\, Colmar\, France
CATEGORIES:Evénements régionaux,Evenements du Réseau Naître en Alsace
ATTACH;FMTTYPE=image/jpeg:https://nea.mediweb.co/wp-content/uploads/2017/02/Parentalite_addictions_ev_rmm-e1487753561121.jpg
END:VEVENT
BEGIN:VEVENT
DTSTART;TZID=Europe/Paris:20170404T180000
DTEND;TZID=Europe/Paris:20170404T200000
DTSTAMP:20260424T052121
CREATED:20170303T091748Z
LAST-MODIFIED:20170303T091748Z
UID:7810-1491328800-1491336000@nea.mediweb.co
SUMMARY:Assemblée Générale
DESCRIPTION:A l’ordre du jour :\n1. Rapport moral du Président\n2. Bilan d’activité des commissions\n3. Coordination Périnatale Grand Est : point d’avancement\n4. Rapport financier du Trésorier\n5. Affectation du résultat\n6. Budget prévisionnel 2017\n7. Cotisations 2017\n8. Elections du Conseil d’Administration\n9. Elections du Bureau\n10. Points divers \nSi vous souhaitez présenter votre candidature au Conseil d’Administration\, cliquez ici.\nPour confirmer votre présence\, cliquez ici.\n 
URL:https://nea.mediweb.co/event/assemblee-generale-2/
LOCATION:IFSI de Colmar\, 39\, avenue de la Liberté\, Colmar\, France
CATEGORIES:Evénements régionaux,Evenements du Réseau Naître en Alsace
END:VEVENT
BEGIN:VEVENT
DTSTART;TZID=Europe/Paris:20170404T180000
DTEND;TZID=Europe/Paris:20170404T200000
DTSTAMP:20260424T052121
CREATED:20170303T091748Z
LAST-MODIFIED:20170303T091748Z
UID:6751-1491328800-1491336000@nea.mediweb.co
SUMMARY:Assemblée Générale
DESCRIPTION:A l’ordre du jour : \n1. Rapport moral du Président\n2. Bilan d’activité des commissions\n3. Coordination Périnatale Grand Est : point d’avancement\n4. Rapport financier du Trésorier\n5. Affectation du résultat\n6. Budget prévisionnel 2017\n7. Cotisations 2017\n8. Elections du Conseil d’Administration\n9. Elections du Bureau\n10. Points divers \nSi vous souhaitez présenter votre candidature au Conseil d’Administration\, cliquez ici.\nPour confirmer votre présence\, cliquez ici. \n 
URL:https://nea.mediweb.co/event/assemblee-generale/
LOCATION:IFSI de Colmar\, 39\, avenue de la Liberté\, Colmar\, France
CATEGORIES:Evénements régionaux,Evenements du Réseau Naître en Alsace
END:VEVENT
BEGIN:VEVENT
DTSTART;VALUE=DATE:20170407
DTEND;VALUE=DATE:20170408
DTSTAMP:20260424T052121
CREATED:20170209T094118Z
LAST-MODIFIED:20170209T094118Z
UID:7806-1491523200-1491609599@nea.mediweb.co
SUMMARY:Genital Design
DESCRIPTION:Rencontre de Chirurgie Gynécologique Sous l’égide du Collège des Gynécologues et Obstétriciens d’Alsace au Musée de l’Automobile à Mulhouse. \nPour télécharger le programme\, cliquez ici.\nPour télécharger le bulletin d’inscription\, cliquez ici.
URL:https://nea.mediweb.co/event/genital-design-2/
LOCATION:Musée de l’Automobile\, 15 rue de l’Epée\, Mulhouse
CATEGORIES:Evénements régionaux,Evenements du Réseau Naître en Alsace
ATTACH;FMTTYPE=image/jpeg:https://nea.mediweb.co/wp-content/uploads/2017/02/2017_04_CGOA.jpg
END:VEVENT
BEGIN:VEVENT
DTSTART;VALUE=DATE:20170407
DTEND;VALUE=DATE:20170408
DTSTAMP:20260424T052121
CREATED:20170209T094118Z
LAST-MODIFIED:20170209T094118Z
UID:6727-1491523200-1491609599@nea.mediweb.co
SUMMARY:Genital Design
DESCRIPTION:Rencontre de Chirurgie Gynécologique Sous l’égide du Collège des Gynécologues et Obstétriciens d’Alsace au Musée de l’Automobile à Mulhouse. \nPour télécharger le programme\, cliquez ici.\nPour télécharger le bulletin d’inscription\, cliquez ici.
URL:https://nea.mediweb.co/event/genital-design/
LOCATION:Musée de l’Automobile\, 15 rue de l’Epée\, Mulhouse
CATEGORIES:Evénements régionaux,Evenements du Réseau Naître en Alsace
ATTACH;FMTTYPE=image/jpeg:https://nea.mediweb.co/wp-content/uploads/2017/02/2017_04_CGOA.jpg
END:VEVENT
BEGIN:VEVENT
DTSTART;TZID=Europe/Paris:20170407T090000
DTEND;TZID=Europe/Paris:20170407T173000
DTSTAMP:20260424T052121
CREATED:20170301T151047Z
LAST-MODIFIED:20170301T151047Z
UID:7809-1491555600-1491586200@nea.mediweb.co
SUMMARY:EPP Trisomie 21
DESCRIPTION:Salle E78\, CMCO \n9h00 – Introduction\n9h15 – 2 Ateliers : Mesure de la clarté nucale et de la LCC – Mur d’images\n10h00 – Pause\n10h15 – Recommandations de l’HAS : critères de qualité\, données nationale du Dépistage\, comment améliorer sa médiane\n12h30 – Repas\n14h00 – Atelier. Modalités du dépistage : cas clinique\, les marqueurs sériques atypiques\, la grossesse gémellaire\, DPNI\n16h30 – L’annonce des résultats : atelier avec jeu de rôle\, annonce des résultats\n17h00 – Information des couples\n17h30 – Conclusion
URL:https://nea.mediweb.co/event/epp-trisomie-21-2/
LOCATION:CMCO\, 19 rue louis pasteur\, Strasbourg\, Sélectionner un État :\, 67300\, France
CATEGORIES:Evénements régionaux,Evenements du Réseau Naître en Alsace
END:VEVENT
BEGIN:VEVENT
DTSTART;TZID=Europe/Paris:20170407T090000
DTEND;TZID=Europe/Paris:20170407T173000
DTSTAMP:20260424T052121
CREATED:20170301T151047Z
LAST-MODIFIED:20170301T151141Z
UID:6746-1491555600-1491586200@nea.mediweb.co
SUMMARY:EPP Trisomie 21
DESCRIPTION:Salle E78\, CMCO \n9h00 – Introduction\n9h15 – 2 Ateliers : Mesure de la clarté nucale et de la LCC – Mur d’images\n10h00 – Pause\n10h15 – Recommandations de l’HAS : critères de qualité\, données nationale du Dépistage\, comment améliorer sa médiane\n12h30 – Repas\n14h00 – Atelier. Modalités du dépistage : cas clinique\, les marqueurs sériques atypiques\, la grossesse gémellaire\, DPNI\n16h30 – L’annonce des résultats : atelier avec jeu de rôle\, annonce des résultats\n17h00 – Information des couples\n17h30 – Conclusion
URL:https://nea.mediweb.co/event/epp-trisomie-21/
LOCATION:CMCO\, 19 rue louis pasteur\, Strasbourg\, Sélectionner un État :\, 67300\, France
CATEGORIES:Evénements régionaux,Evenements du Réseau Naître en Alsace
END:VEVENT
END:VCALENDAR