BEGIN:VCALENDAR
VERSION:2.0
PRODID:-//Naître en Alsace - ECPv6.9.0//NONSGML v1.0//EN
CALSCALE:GREGORIAN
METHOD:PUBLISH
X-ORIGINAL-URL:https://nea.mediweb.co
X-WR-CALDESC:Évènements pour Naître en Alsace
REFRESH-INTERVAL;VALUE=DURATION:PT1H
X-Robots-Tag:noindex
X-PUBLISHED-TTL:PT1H
BEGIN:VTIMEZONE
TZID:Europe/Paris
BEGIN:DAYLIGHT
TZOFFSETFROM:+0100
TZOFFSETTO:+0200
TZNAME:CEST
DTSTART:20170326T010000
END:DAYLIGHT
BEGIN:STANDARD
TZOFFSETFROM:+0200
TZOFFSETTO:+0100
TZNAME:CET
DTSTART:20171029T010000
END:STANDARD
END:VTIMEZONE
BEGIN:VEVENT
DTSTART;VALUE=DATE:20170615
DTEND;VALUE=DATE:20170617
DTSTAMP:20260423T232824
CREATED:20170209T091525Z
LAST-MODIFIED:20170607T115959Z
UID:6721-1497484800-1497657599@nea.mediweb.co
SUMMARY:Congrès du CGOA
DESCRIPTION:Congrès du Collège des Gynécologues et Obstétriciens d’Alsace (CGOA). \nPour télécharger le programme\, cliquez ici.\nPour télécharger le bulletin d’inscription\, cliquez ici.
URL:https://nea.mediweb.co/event/congres-du-cgoa/
LOCATION:L’Illiade\, 11 allée François Mitterrand\, Illkirch-Graffenstaden\, 67400\, France
CATEGORIES:Evénements régionaux,Evenements du Réseau Naître en Alsace
ATTACH;FMTTYPE=image/jpeg:https://nea.mediweb.co/wp-content/uploads/2017/02/2016_06_CGO.jpg
END:VEVENT
BEGIN:VEVENT
DTSTART;VALUE=DATE:20170615
DTEND;VALUE=DATE:20170617
DTSTAMP:20260423T232824
CREATED:20170209T091525Z
LAST-MODIFIED:20170209T091525Z
UID:7804-1497484800-1497657599@nea.mediweb.co
SUMMARY:Congrès du CGOA
DESCRIPTION:Congrès du Collège des Gynécologues et Obstétriciens d’Alsace (CGOA). \nPour télécharger le programme\, cliquez ici.\nPour télécharger le bulletin d’inscription\, cliquez ici.
URL:https://nea.mediweb.co/event/congres-du-cgoa-2/
LOCATION:L’Illiade\, 11 allée François Mitterrand\, Illkirch-Graffenstaden\, 67400\, France
CATEGORIES:Evénements régionaux,Evenements du Réseau Naître en Alsace
ATTACH;FMTTYPE=image/jpeg:https://nea.mediweb.co/wp-content/uploads/2017/02/2016_06_CGO.jpg
END:VEVENT
END:VCALENDAR