BEGIN:VCALENDAR
VERSION:2.0
PRODID:-//Naître en Alsace - ECPv6.9.0//NONSGML v1.0//EN
CALSCALE:GREGORIAN
METHOD:PUBLISH
X-WR-CALNAME:Naître en Alsace
X-ORIGINAL-URL:https://nea.mediweb.co
X-WR-CALDESC:Évènements pour Naître en Alsace
REFRESH-INTERVAL;VALUE=DURATION:PT1H
X-Robots-Tag:noindex
X-PUBLISHED-TTL:PT1H
BEGIN:VTIMEZONE
TZID:Europe/Paris
BEGIN:DAYLIGHT
TZOFFSETFROM:+0100
TZOFFSETTO:+0200
TZNAME:CEST
DTSTART:20180325T010000
END:DAYLIGHT
BEGIN:STANDARD
TZOFFSETFROM:+0200
TZOFFSETTO:+0100
TZNAME:CET
DTSTART:20181028T010000
END:STANDARD
END:VTIMEZONE
BEGIN:VEVENT
DTSTART;VALUE=DATE:20180209
DTEND;VALUE=DATE:20180210
DTSTAMP:20260423T062505
CREATED:20171207T144145Z
LAST-MODIFIED:20171214T135449Z
UID:7271-1518134400-1518220799@nea.mediweb.co
SUMMARY:Journée régionale Suivi des enfants vulnérables
DESCRIPTION:La 1re Journée régionale sur le suivi des enfants vulnérables est organisée conjointement par les trois réseaux de santé en périnatalité de la région Grand Est. \nElle s’adresse aux acteurs impliqués dans le suivi des enfants vulnérables en Alsace\, Lorraine et Champagne-Ardenne. Son objectif est de présenter les organisations actuelles des trois territoires et entamer la réflexion sur les possibilités d’évolution dans le Grand Est. Nous aurons également l’honneur de compter parmi nous le Pr Cyril FLAMANT et le Pr Marie-Laure CHARKALUK qui nous parleront des modèles des Pays de la Loire et de la région lilloise. \nLa participation est gratuite sur inscription. La date limite d’inscription est le 15 janvier 2018. \nTélécharger le pré-programme\nTélécharger le bulletin d’inscription \nS’INSCRIRE EN LIGNE
URL:https://nea.mediweb.co/event/journee-sev/
LOCATION:CIARUS\, 7 Rue Finkmatt\, Strasbourg\, France
CATEGORIES:Evénements régionaux,Evenements du Réseau Naître en Alsace
ATTACH;FMTTYPE=image/png:https://nea.mediweb.co/wp-content/uploads/2017/12/logo_copege_evts-e1513259672857.png
END:VEVENT
BEGIN:VEVENT
DTSTART;VALUE=DATE:20180209
DTEND;VALUE=DATE:20180210
DTSTAMP:20260423T062505
CREATED:20171207T144145Z
LAST-MODIFIED:20171207T144145Z
UID:7837-1518134400-1518220799@nea.mediweb.co
SUMMARY:Journée régionale Suivi des enfants vulnérables
DESCRIPTION:La 1re Journée régionale sur le suivi des enfants vulnérables est organisée conjointement par les trois réseaux de santé en périnatalité de la région Grand Est.\nElle s’adresse aux acteurs impliqués dans le suivi des enfants vulnérables en Alsace\, Lorraine et Champagne-Ardenne. Son objectif est de présenter les organisations actuelles des trois territoires et entamer la réflexion sur les possibilités d’évolution dans le Grand Est. Nous aurons également l’honneur de compter parmi nous le Pr Cyril FLAMANT et le Pr Marie-Laure CHARKALUK qui nous parleront des modèles des Pays de la Loire et de la région lilloise. \nLa participation est gratuite sur inscription. La date limite d’inscription est le 15 janvier 2018. \nTélécharger le pré-programme\nTélécharger le bulletin d’inscription\nS’INSCRIRE EN LIGNE
URL:https://nea.mediweb.co/event/journee-sev-2/
LOCATION:CIARUS\, 7 Rue Finkmatt\, Strasbourg\, France
CATEGORIES:Evénements régionaux,Evenements du Réseau Naître en Alsace
ATTACH;FMTTYPE=image/png:https://nea.mediweb.co/wp-content/uploads/2017/12/logo_copege_evts-e1513259672857.png
END:VEVENT
BEGIN:VEVENT
DTSTART;VALUE=DATE:20180210
DTEND;VALUE=DATE:20180212
DTSTAMP:20260423T062505
CREATED:20171106T150240Z
LAST-MODIFIED:20171106T150240Z
UID:7224-1518220800-1518393599@nea.mediweb.co
SUMMARY:Les Bases de la connaissance en matière de violences sexuelles
DESCRIPTION:Formation pour toute personne désireuse d’approfondir ses connaissances en matière de violences sexuelles. Le minimum de connaissances épidémiologiques\, juridiques\, sociologiques et scientifiques à acquérir pour se sentir à l’aise avec le sujet des violences sexuelles. Formation tout public\, gratuite. \nPour télécharger le programme\, cliquez ici.\npour en savoir plus\, cliquez ici.
URL:https://nea.mediweb.co/event/les-bases-de-la-connaissance-en-matiere-de-violences-sexuelles/
LOCATION:Restaurant La Halles aux Blés\, Place du Marché\, Obernai\, France
CATEGORIES:Evénements régionaux,Evenements du Réseau Naître en Alsace
ATTACH;FMTTYPE=image/jpeg:https://nea.mediweb.co/wp-content/uploads/2017/11/2018_02_Violences_sexuelles.jpg
END:VEVENT
BEGIN:VEVENT
DTSTART;VALUE=DATE:20180210
DTEND;VALUE=DATE:20180212
DTSTAMP:20260423T062505
CREATED:20171106T150240Z
LAST-MODIFIED:20171106T150240Z
UID:7835-1518220800-1518393599@nea.mediweb.co
SUMMARY:Les Bases de la connaissance en matière de violences sexuelles
DESCRIPTION:Formation pour toute personne désireuse d’approfondir ses connaissances en matière de violences sexuelles. Le minimum de connaissances épidémiologiques\, juridiques\, sociologiques et scientifiques à acquérir pour se sentir à l’aise avec le sujet des violences sexuelles. Formation tout public\, gratuite.\nPour télécharger le programme\, cliquez ici.\npour en savoir plus\, cliquez ici.
URL:https://nea.mediweb.co/event/les-bases-de-la-connaissance-en-matiere-de-violences-sexuelles-2/
LOCATION:Restaurant La Halles aux Blés\, Place du Marché\, Obernai\, France
CATEGORIES:Evénements régionaux,Evenements du Réseau Naître en Alsace
ATTACH;FMTTYPE=image/jpeg:https://nea.mediweb.co/wp-content/uploads/2017/11/2018_02_Violences_sexuelles.jpg
END:VEVENT
BEGIN:VEVENT
DTSTART;VALUE=DATE:20180220
DTEND;VALUE=DATE:20180221
DTSTAMP:20260423T062505
CREATED:20171214T140904Z
LAST-MODIFIED:20171214T140904Z
UID:7839-1519084800-1519171199@nea.mediweb.co
SUMMARY:Journée régionale Accès à l'IVG
DESCRIPTION:La 1re Journée régionale sur le thème d’accès à l’IVG est organisée conjointement par les trois réseaux de santé en périnatalité de la région Grand Est.\nElle s’adresse aux professionnels impliqués dans l’accompagnement et la prise en charge des demandes d’IVG. La réunion sera consacrée à la présentation du Plan régional d’accès à l’IVG ainsi qu’à la constitution des groupes de travail sur des thématiques suivantes : communication\, prévention\, vulnérabilité\, prise en charge de la douleur et IVG entre 12 et 14 SA. \nLa participation est gratuite sur inscription. \nPour télécharger le pré-programme et le bulletin d’inscription\, cliquez ici.\nPour télécharger le Plan d’accès à l’IVG Grand Est\, cliquez ici.
URL:https://nea.mediweb.co/event/journee-regionale-acces-a-livg-2/
LOCATION:Faculté de Médecine de Nancy\,  9 Avenue de la Forêt de Haye\, Vandœuvre-lès-Nancy\, France
CATEGORIES:Evénements régionaux,Evenements du Réseau Naître en Alsace
ATTACH;FMTTYPE=image/png:https://nea.mediweb.co/wp-content/uploads/2017/12/logo_copege_evts-e1513259672857.png
END:VEVENT
BEGIN:VEVENT
DTSTART;VALUE=DATE:20180220
DTEND;VALUE=DATE:20180221
DTSTAMP:20260423T062505
CREATED:20171214T140904Z
LAST-MODIFIED:20180201T090738Z
UID:7282-1519084800-1519171199@nea.mediweb.co
SUMMARY:Journée régionale Accès à l'IVG
DESCRIPTION:La 1re Journée régionale sur le thème d’accès à l’IVG est organisée conjointement par les trois réseaux de santé en périnatalité de la région Grand Est. \nElle s’adresse aux professionnels impliqués dans l’accompagnement et la prise en charge des demandes d’IVG. La réunion sera consacrée à la présentation du Plan régional d’accès à l’IVG ainsi qu’à la constitution des groupes de travail sur des thématiques suivantes : communication\, prévention\, vulnérabilité\, prise en charge de la douleur et IVG entre 12 et 14 SA. \nLa participation est gratuite sur inscription. \nPour télécharger le pré-programme et le bulletin d’inscription\, cliquez ici.\nPour télécharger le Plan d’accès à l’IVG Grand Est\, cliquez ici.
URL:https://nea.mediweb.co/event/journee-regionale-acces-a-livg/
LOCATION:Faculté de Médecine de Nancy\,  9 Avenue de la Forêt de Haye\, Vandœuvre-lès-Nancy\, France
CATEGORIES:Evénements régionaux,Evenements du Réseau Naître en Alsace
ATTACH;FMTTYPE=image/png:https://nea.mediweb.co/wp-content/uploads/2017/12/logo_copege_evts-e1513259672857.png
END:VEVENT
END:VCALENDAR