BEGIN:VCALENDAR
VERSION:2.0
PRODID:-//Naître en Alsace - ECPv6.9.0//NONSGML v1.0//EN
CALSCALE:GREGORIAN
METHOD:PUBLISH
X-ORIGINAL-URL:https://nea.mediweb.co
X-WR-CALDESC:Évènements pour Naître en Alsace
REFRESH-INTERVAL;VALUE=DURATION:PT1H
X-Robots-Tag:noindex
X-PUBLISHED-TTL:PT1H
BEGIN:VTIMEZONE
TZID:Europe/Paris
BEGIN:DAYLIGHT
TZOFFSETFROM:+0100
TZOFFSETTO:+0200
TZNAME:CEST
DTSTART:20180325T010000
END:DAYLIGHT
BEGIN:STANDARD
TZOFFSETFROM:+0200
TZOFFSETTO:+0100
TZNAME:CET
DTSTART:20181028T010000
END:STANDARD
END:VTIMEZONE
BEGIN:VEVENT
DTSTART;VALUE=DATE:20180312
DTEND;VALUE=DATE:20180326
DTSTAMP:20260423T041848
CREATED:20180226T152626Z
LAST-MODIFIED:20180226T154220Z
UID:7353-1520812800-1522022399@nea.mediweb.co
SUMMARY:Semaines d'information sur la santé mentale 2018
DESCRIPTION:Thème : « Santé mentale : parentalité et enfance » \nLa 29e édition des Semaines d’information sur la santé mentale sera l’occasion d’échanger autour des pistes d’actions possibles pour favoriser le bien-être des enfants\, promouvoir la santé mentale dès le plus jeune âge\, accompagner la parentalité de tous\, et en particulier des personnes souffrant de troubles psychiques. \nPour consulter le programme SISM 2018 Haut-Rhin\, cliquez ici.\nTélécharger le programme SISM 2018 Bas-Rhin. \nPour en savoir plus\, cliquez ici.
URL:https://nea.mediweb.co/event/semaines-dinformation-sur-la-sante-mentale-2018/
LOCATION:Sélectionner un État :
CATEGORIES:Evénements régionaux,Evenements du Réseau Naître en Alsace
ATTACH;FMTTYPE=image/jpeg:https://nea.mediweb.co/wp-content/uploads/2018/02/2018_03_sante_mentale-e1519658499829.jpg
END:VEVENT
BEGIN:VEVENT
DTSTART;VALUE=DATE:20180312
DTEND;VALUE=DATE:20180326
DTSTAMP:20260423T041848
CREATED:20180226T152626Z
LAST-MODIFIED:20180226T152626Z
UID:7845-1520812800-1522022399@nea.mediweb.co
SUMMARY:Semaines d'information sur la santé mentale 2018
DESCRIPTION:Thème : « Santé mentale : parentalité et enfance » \nLa 29e édition des Semaines d’information sur la santé mentale sera l’occasion d’échanger autour des pistes d’actions possibles pour favoriser le bien-être des enfants\, promouvoir la santé mentale dès le plus jeune âge\, accompagner la parentalité de tous\, et en particulier des personnes souffrant de troubles psychiques.\nPour consulter le programme SISM 2018 Haut-Rhin\, cliquez ici.\nTélécharger le programme SISM 2018 Bas-Rhin.\nPour en savoir plus\, cliquez ici.
URL:https://nea.mediweb.co/event/semaines-dinformation-sur-la-sante-mentale-2018-2/
LOCATION:Sélectionner un État :
CATEGORIES:Evénements régionaux,Evenements du Réseau Naître en Alsace
ATTACH;FMTTYPE=image/jpeg:https://nea.mediweb.co/wp-content/uploads/2018/02/2018_03_sante_mentale-e1519658499829.jpg
END:VEVENT
BEGIN:VEVENT
DTSTART;VALUE=DATE:20180323
DTEND;VALUE=DATE:20180325
DTSTAMP:20260423T041848
CREATED:20180319T102107Z
LAST-MODIFIED:20180319T102107Z
UID:7388-1521763200-1521935999@nea.mediweb.co
SUMMARY:10 ans de l'AFSFA : De la naissance à la reconnaissance
DESCRIPTION:Le congrès de l’Association des Sages-Femmes Acupuncteurs. \nPour plus d’informations\, cliquez ici.
URL:https://nea.mediweb.co/event/10-ans-de-lafsfa-de-la-naissance-a-la-reconnaissance/
LOCATION:Palais de la musique et des congrès\, Place de Bordeaux\, Strasbourg\, Sélectionner un État :\, 67000\, France
CATEGORIES:Evénements régionaux,Evenements du Réseau Naître en Alsace
ATTACH;FMTTYPE=image/jpeg:https://nea.mediweb.co/wp-content/uploads/2018/03/2018_03_AFSFA.jpg
END:VEVENT
BEGIN:VEVENT
DTSTART;VALUE=DATE:20180323
DTEND;VALUE=DATE:20180325
DTSTAMP:20260423T041848
CREATED:20180319T102107Z
LAST-MODIFIED:20180319T102107Z
UID:7850-1521763200-1521935999@nea.mediweb.co
SUMMARY:10 ans de l'AFSFA : De la naissance à la reconnaissance
DESCRIPTION:Le congrès de l’Association des Sages-Femmes Acupuncteurs.\nPour plus d’informations\, cliquez ici.
URL:https://nea.mediweb.co/event/10-ans-de-lafsfa-de-la-naissance-a-la-reconnaissance-2/
LOCATION:Palais de la musique et des congrès\, Place de Bordeaux\, Strasbourg\, Sélectionner un État :\, 67000\, France
CATEGORIES:Evénements régionaux,Evenements du Réseau Naître en Alsace
ATTACH;FMTTYPE=image/jpeg:https://nea.mediweb.co/wp-content/uploads/2018/03/2018_03_AFSFA.jpg
END:VEVENT
BEGIN:VEVENT
DTSTART;TZID=Europe/Paris:20180328T190000
DTEND;TZID=Europe/Paris:20180328T213000
DTSTAMP:20260423T041848
CREATED:20180321T084433Z
LAST-MODIFIED:20180321T084433Z
UID:7407-1522263600-1522272600@nea.mediweb.co
SUMMARY:Soirée ciné-débat
DESCRIPTION:Soirée ciné-débat autour du film « Grandir » de Bernard JOSSE et Etienne MOINE dévoilant le quotidien d’une maison d’inspiration piklerienne en Equateur\, où les enfants ont été accueillis après avoir été rejetés et maltraités par leur famille pour se reconstruire. \nAvec la participation exceptionnelle de Maria Del Carmen Vasquez\, fondatrice et directrice de la maison NUESTRO HOGAR. \nPour en savoir plus\, cliquez ici.
URL:https://nea.mediweb.co/event/soiree-cine-debat/
LOCATION:Centre Socio-Culturel Le PAX\, 54 Rue de Soultz\, Mulhouse\, France
CATEGORIES:Evénements régionaux,Evenements du Réseau Naître en Alsace
ATTACH;FMTTYPE=image/jpeg:https://nea.mediweb.co/wp-content/uploads/2018/03/2018_03_Grandir-e1521621862863.jpg
END:VEVENT
BEGIN:VEVENT
DTSTART;TZID=Europe/Paris:20180328T190000
DTEND;TZID=Europe/Paris:20180328T213000
DTSTAMP:20260423T041848
CREATED:20180321T084433Z
LAST-MODIFIED:20180321T084433Z
UID:7855-1522263600-1522272600@nea.mediweb.co
SUMMARY:Soirée ciné-débat
DESCRIPTION:Soirée ciné-débat autour du film « Grandir » de Bernard JOSSE et Etienne MOINE dévoilant le quotidien d’une maison d’inspiration piklerienne en Equateur\, où les enfants ont été accueillis après avoir été rejetés et maltraités par leur famille pour se reconstruire.\nAvec la participation exceptionnelle de Maria Del Carmen Vasquez\, fondatrice et directrice de la maison NUESTRO HOGAR.\nPour en savoir plus\, cliquez ici.
URL:https://nea.mediweb.co/event/soiree-cine-debat-2/
LOCATION:Centre Socio-Culturel Le PAX\, 54 Rue de Soultz\, Mulhouse\, France
CATEGORIES:Evénements régionaux,Evenements du Réseau Naître en Alsace
ATTACH;FMTTYPE=image/jpeg:https://nea.mediweb.co/wp-content/uploads/2018/03/2018_03_Grandir-e1521621862863.jpg
END:VEVENT
END:VCALENDAR