BEGIN:VCALENDAR
VERSION:2.0
PRODID:-//Naître en Alsace - ECPv6.9.0//NONSGML v1.0//EN
CALSCALE:GREGORIAN
METHOD:PUBLISH
X-ORIGINAL-URL:https://nea.mediweb.co
X-WR-CALDESC:Évènements pour Naître en Alsace
REFRESH-INTERVAL;VALUE=DURATION:PT1H
X-Robots-Tag:noindex
X-PUBLISHED-TTL:PT1H
BEGIN:VTIMEZONE
TZID:Europe/Paris
BEGIN:DAYLIGHT
TZOFFSETFROM:+0100
TZOFFSETTO:+0200
TZNAME:CEST
DTSTART:20160327T010000
END:DAYLIGHT
BEGIN:STANDARD
TZOFFSETFROM:+0200
TZOFFSETTO:+0100
TZNAME:CET
DTSTART:20161030T010000
END:STANDARD
END:VTIMEZONE
BEGIN:VEVENT
DTSTART;VALUE=DATE:20161118
DTEND;VALUE=DATE:20161119
DTSTAMP:20260424T163229
CREATED:20160510T091141Z
LAST-MODIFIED:20161104T093308Z
UID:6189-1479427200-1479513599@nea.mediweb.co
SUMMARY:Journée du Réseau 2016
DESCRIPTION:La Journée annuelle du Réseau Naître en Alsace est devenue un rendez-vous incontournable des professionnels de santé périnatale de notre région. Cette année\, nous aurons le plaisir de vous accueillir au Parc Expo à Mulhouse le 18 novembre. \nAu programme : indicateurs de santé périnatale\, HTA et grossesse\, retour à domicile de la mère et de l’enfant après l’accouchement\, obésité et périnatalité. Un temps de parole est également prévu pour les acteurs du Réseau. \nDate limite d’inscription : 10 novembre 2016. \nTélécharger le programme\nTélécharger le bulletin d’inscription\nS’inscrire en ligne
URL:https://nea.mediweb.co/event/jrnea-2016/
LOCATION:Parc Expo\, 120 Rue Lefebvre\, Mulhouse\, 03 89 46 80 00\, 68100\, France
CATEGORIES:Evénements régionaux,Evenements du Réseau Naître en Alsace
ATTACH;FMTTYPE=image/jpeg:https://nea.mediweb.co/wp-content/uploads/2016/05/JRENEA2016_preimage-e1465551706991.jpg
END:VEVENT
BEGIN:VEVENT
DTSTART;VALUE=DATE:20161118
DTEND;VALUE=DATE:20161119
DTSTAMP:20260424T163229
CREATED:20160510T091141Z
LAST-MODIFIED:20160510T091141Z
UID:7768-1479427200-1479513599@nea.mediweb.co
SUMMARY:Journée du Réseau 2016
DESCRIPTION:La Journée annuelle du Réseau Naître en Alsace est devenue un rendez-vous incontournable des professionnels de santé périnatale de notre région. Cette année\, nous aurons le plaisir de vous accueillir au Parc Expo à Mulhouse le 18 novembre.\nAu programme : indicateurs de santé périnatale\, HTA et grossesse\, retour à domicile de la mère et de l’enfant après l’accouchement\, obésité et périnatalité. Un temps de parole est également prévu pour les acteurs du Réseau.\nDate limite d’inscription : 10 novembre 2016.\nTélécharger le programme\nTélécharger le bulletin d’inscription\nS’inscrire en ligne
URL:https://nea.mediweb.co/event/jrnea-2016-2/
LOCATION:Parc Expo\, 120 Rue Lefebvre\, Mulhouse\, 03 89 46 80 00\, 68100\, France
CATEGORIES:Evénements régionaux,Evenements du Réseau Naître en Alsace
ATTACH;FMTTYPE=image/jpeg:https://nea.mediweb.co/wp-content/uploads/2016/05/JRENEA2016_preimage-e1465551706991.jpg
END:VEVENT
END:VCALENDAR