BEGIN:VCALENDAR
VERSION:2.0
PRODID:-//Naître en Alsace - ECPv6.9.0//NONSGML v1.0//EN
CALSCALE:GREGORIAN
METHOD:PUBLISH
X-ORIGINAL-URL:https://nea.mediweb.co
X-WR-CALDESC:Évènements pour Naître en Alsace
REFRESH-INTERVAL;VALUE=DURATION:PT1H
X-Robots-Tag:noindex
X-PUBLISHED-TTL:PT1H
BEGIN:VTIMEZONE
TZID:Europe/Paris
BEGIN:DAYLIGHT
TZOFFSETFROM:+0100
TZOFFSETTO:+0200
TZNAME:CEST
DTSTART:20170326T010000
END:DAYLIGHT
BEGIN:STANDARD
TZOFFSETFROM:+0200
TZOFFSETTO:+0100
TZNAME:CET
DTSTART:20171029T010000
END:STANDARD
END:VTIMEZONE
BEGIN:VEVENT
DTSTART;VALUE=DATE:20170128
DTEND;VALUE=DATE:20170130
DTSTAMP:20260424T182511
CREATED:20161121T155102Z
LAST-MODIFIED:20161121T163435Z
UID:6546-1485561600-1485734399@nea.mediweb.co
SUMMARY:Formation violences sexuelles : les bases
DESCRIPTION:L’association « Autour de La Bulle » organise et accueille la formation sur les bases de la connaissance en matière de violences sexuelles\, initiée par le Dr Violaine GUERIN et son équipe. Elle aura lieu les 28 et 29 janvier 2017 à Obernai et sera à destination des professionnels de la santé et du paramédical\, des thérapeutes\, ainsi que des professionnels des métiers de la petite enfance et de l’éducation. \nAinsi\, celles et ceux qui souhaitent développer leurs connaissances du sujet et rejoindre à l’avenir le réseau régional pour une meilleure prise en charge des victimes auront une démarche commune dans leurs divers champs d’actions. \nTélécharger le programme\nInscriptions : svs.formation.bases@gmail.com
URL:https://nea.mediweb.co/event/formation-violences-sexuelles-les-bases/
LOCATION:La Halle aux blés\, rue du Marché\, Obernai
CATEGORIES:Evénements régionaux,Evenements du Réseau Naître en Alsace
ATTACH;FMTTYPE=image/jpeg:https://nea.mediweb.co/wp-content/uploads/2016/11/2017_01_bulle-e1479743304848.jpg
END:VEVENT
BEGIN:VEVENT
DTSTART;VALUE=DATE:20170128
DTEND;VALUE=DATE:20170130
DTSTAMP:20260424T182511
CREATED:20161121T155102Z
LAST-MODIFIED:20161121T155102Z
UID:7788-1485561600-1485734399@nea.mediweb.co
SUMMARY:Formation violences sexuelles : les bases
DESCRIPTION:L’association « Autour de La Bulle » organise et accueille la formation sur les bases de la connaissance en matière de violences sexuelles\, initiée par le Dr Violaine GUERIN et son équipe. Elle aura lieu les 28 et 29 janvier 2017 à Obernai et sera à destination des professionnels de la santé et du paramédical\, des thérapeutes\, ainsi que des professionnels des métiers de la petite enfance et de l’éducation.\nAinsi\, celles et ceux qui souhaitent développer leurs connaissances du sujet et rejoindre à l’avenir le réseau régional pour une meilleure prise en charge des victimes auront une démarche commune dans leurs divers champs d’actions.\nTélécharger le programme\nInscriptions : svs.formation.bases@gmail.com
URL:https://nea.mediweb.co/event/formation-violences-sexuelles-les-bases-2/
LOCATION:La Halle aux blés\, rue du Marché\, Obernai
CATEGORIES:Evénements régionaux,Evenements du Réseau Naître en Alsace
ATTACH;FMTTYPE=image/jpeg:https://nea.mediweb.co/wp-content/uploads/2016/11/2017_01_bulle-e1479743304848.jpg
END:VEVENT
END:VCALENDAR