BEGIN:VCALENDAR
VERSION:2.0
PRODID:-//Naître en Alsace - ECPv6.9.0//NONSGML v1.0//EN
CALSCALE:GREGORIAN
METHOD:PUBLISH
X-WR-CALNAME:Naître en Alsace
X-ORIGINAL-URL:https://nea.mediweb.co
X-WR-CALDESC:Évènements pour Naître en Alsace
REFRESH-INTERVAL;VALUE=DURATION:PT1H
X-Robots-Tag:noindex
X-PUBLISHED-TTL:PT1H
BEGIN:VTIMEZONE
TZID:Europe/Paris
BEGIN:DAYLIGHT
TZOFFSETFROM:+0100
TZOFFSETTO:+0200
TZNAME:CEST
DTSTART:20170326T010000
END:DAYLIGHT
BEGIN:STANDARD
TZOFFSETFROM:+0200
TZOFFSETTO:+0100
TZNAME:CET
DTSTART:20171029T010000
END:STANDARD
END:VTIMEZONE
BEGIN:VEVENT
DTSTART;VALUE=DATE:20170517
DTEND;VALUE=DATE:20170520
DTSTAMP:20260424T072012
CREATED:20170209T085205Z
LAST-MODIFIED:20170209T085205Z
UID:7802-1494979200-1495238399@nea.mediweb.co
SUMMARY:Assises Nationales des Sages-Femmes
DESCRIPTION:Edition 2017 des Assises des Sages-Femmes. \nPour consulter le programme\, cliquez ici.\nPour vous inscrire\, cliquez ici.
URL:https://nea.mediweb.co/event/assises-nationales-des-sages-femmes-4/
LOCATION:Palais de la musique et des congrès\, Place de Bordeaux\, Strasbourg\, Sélectionner un État :\, 67000\, France
CATEGORIES:Evenements du Réseau Naître en Alsace,Evénements régionaux,Evénements nationaux et internationaux
ATTACH;FMTTYPE=image/jpeg:https://nea.mediweb.co/wp-content/uploads/2017/02/2017_05_APSF-e1486630280857.jpg
END:VEVENT
BEGIN:VEVENT
DTSTART;VALUE=DATE:20170517
DTEND;VALUE=DATE:20170520
DTSTAMP:20260424T072012
CREATED:20170209T085205Z
LAST-MODIFIED:20170428T142455Z
UID:6716-1494979200-1495238399@nea.mediweb.co
SUMMARY:Assises Nationales des Sages-Femmes
DESCRIPTION:Edition 2017 des Assises des Sages-Femmes. \nPour consulter le programme\, cliquez ici.\nPour vous inscrire\, cliquez ici.
URL:https://nea.mediweb.co/event/assises-nationales-des-sages-femmes/
LOCATION:Palais de la musique et des congrès\, Place de Bordeaux\, Strasbourg\, Sélectionner un État :\, 67000\, France
CATEGORIES:Evenements du Réseau Naître en Alsace,Evénements régionaux,Evénements nationaux et internationaux
ATTACH;FMTTYPE=image/jpeg:https://nea.mediweb.co/wp-content/uploads/2017/02/2017_05_APSF-e1486630280857.jpg
END:VEVENT
END:VCALENDAR