BEGIN:VCALENDAR
VERSION:2.0
PRODID:-//Naître en Alsace - ECPv6.9.0//NONSGML v1.0//EN
CALSCALE:GREGORIAN
METHOD:PUBLISH
X-WR-CALNAME:Naître en Alsace
X-ORIGINAL-URL:https://nea.mediweb.co
X-WR-CALDESC:Évènements pour Naître en Alsace
REFRESH-INTERVAL;VALUE=DURATION:PT1H
X-Robots-Tag:noindex
X-PUBLISHED-TTL:PT1H
BEGIN:VTIMEZONE
TZID:Europe/Paris
BEGIN:DAYLIGHT
TZOFFSETFROM:+0100
TZOFFSETTO:+0200
TZNAME:CEST
DTSTART:20170326T010000
END:DAYLIGHT
BEGIN:STANDARD
TZOFFSETFROM:+0200
TZOFFSETTO:+0100
TZNAME:CET
DTSTART:20171029T010000
END:STANDARD
END:VTIMEZONE
BEGIN:VEVENT
DTSTART;TZID=Europe/Paris:20170523T143000
DTEND;TZID=Europe/Paris:20170523T170000
DTSTAMP:20260424T072012
CREATED:20161031T085250Z
LAST-MODIFIED:20170510T100256Z
UID:6528-1495549800-1495558800@nea.mediweb.co
SUMMARY:Après-midi de la Commission Vulnérabilité
DESCRIPTION:Après-midi d’échange et de retour d’expérience sur la prise en charge et l’accompagnement des femmes et des familles en situation de vulnérabilité. \nLa réunion se déroulera avec la participation de :\n– Maternité de Thann – réseau du Pays Thur&Doller – Dr MJ Leveque Kubler\n– Maternité du Diaconat Fonderie – E.Kies\n– Maternité du GHRMA\, Hasenrain – Dr C.Gilliot\n– Equipe de l’UME de Mulhouse avec Dr I.Schertz-Owczarczak \nPour confirmer votre présence\, cliquez ici.
URL:https://nea.mediweb.co/event/apres-midi-de-la-commission-vulnerabilite-2/
LOCATION:Hôpital Emile Muller\, 20 rue du Docteur Laennec\, Mulhouse
CATEGORIES:Evénements régionaux,Evenements du Réseau Naître en Alsace
ATTACH;FMTTYPE=image/jpeg:https://nea.mediweb.co/wp-content/uploads/2015/07/AM_Vulnerabilite_evt-e1437639296148.jpg
END:VEVENT
BEGIN:VEVENT
DTSTART;TZID=Europe/Paris:20170523T143000
DTEND;TZID=Europe/Paris:20170523T170000
DTSTAMP:20260424T072012
CREATED:20161031T085250Z
LAST-MODIFIED:20161031T085250Z
UID:7787-1495549800-1495558800@nea.mediweb.co
SUMMARY:Après-midi de la Commission Vulnérabilité
DESCRIPTION:Après-midi d’échange et de retour d’expérience sur la prise en charge et l’accompagnement des femmes et des familles en situation de vulnérabilité. \nLa réunion se déroulera avec la participation de :\n– Maternité de Thann – réseau du Pays Thur&Doller – Dr MJ Leveque Kubler\n– Maternité du Diaconat Fonderie – E.Kies\n– Maternité du GHRMA\, Hasenrain – Dr C.Gilliot\n– Equipe de l’UME de Mulhouse avec Dr I.Schertz-Owczarczak \nPour confirmer votre présence\, cliquez ici.
URL:https://nea.mediweb.co/event/apres-midi-de-la-commission-vulnerabilite-2-2/
LOCATION:Hôpital Emile Muller\, 20 rue du Docteur Laennec\, Mulhouse
CATEGORIES:Evénements régionaux,Evenements du Réseau Naître en Alsace
ATTACH;FMTTYPE=image/jpeg:https://nea.mediweb.co/wp-content/uploads/2015/07/AM_Vulnerabilite_evt-e1437639296148.jpg
END:VEVENT
END:VCALENDAR