BEGIN:VCALENDAR
VERSION:2.0
PRODID:-//Naître en Alsace - ECPv6.9.0//NONSGML v1.0//EN
CALSCALE:GREGORIAN
METHOD:PUBLISH
X-ORIGINAL-URL:https://nea.mediweb.co
X-WR-CALDESC:Évènements pour Naître en Alsace
REFRESH-INTERVAL;VALUE=DURATION:PT1H
X-Robots-Tag:noindex
X-PUBLISHED-TTL:PT1H
BEGIN:VTIMEZONE
TZID:Europe/Paris
BEGIN:DAYLIGHT
TZOFFSETFROM:+0100
TZOFFSETTO:+0200
TZNAME:CEST
DTSTART:20170326T010000
END:DAYLIGHT
BEGIN:STANDARD
TZOFFSETFROM:+0200
TZOFFSETTO:+0100
TZNAME:CET
DTSTART:20171029T010000
END:STANDARD
END:VTIMEZONE
BEGIN:VEVENT
DTSTART;VALUE=DATE:20170919
DTEND;VALUE=DATE:20170920
DTSTAMP:20260423T233719
CREATED:20170628T120048Z
LAST-MODIFIED:20170628T120254Z
UID:7025-1505779200-1505865599@nea.mediweb.co
SUMMARY:Formation IVG médicamenteuse en ville
DESCRIPTION:La formation est organisée par le Réseau entre la Ville et l’Hôpital pour l’Orthogénie (REVHO) en partenariat avec le Réseau Périnatal de Champagne-Ardenne. \nPour télécharger le programme\, cliquez ici. \nPour plus d’informations \, veuillez contacter le Réseau Périnatal de Champagne-Ardenne au 03 26 78 78 69. \n 
URL:https://nea.mediweb.co/event/formation-ivg-medicamenteuse-en-ville/
LOCATION:Cité scolaire Edouard Herriot\, 8\, Rue de la Maladière\, Sainte Savine\, France
CATEGORIES:Evénements régionaux,Evenements du Réseau Naître en Alsace
ATTACH;FMTTYPE=image/jpeg:https://nea.mediweb.co/wp-content/uploads/2017/06/perinat-RPCA.jpg
END:VEVENT
BEGIN:VEVENT
DTSTART;VALUE=DATE:20170919
DTEND;VALUE=DATE:20170920
DTSTAMP:20260423T233719
CREATED:20170628T120048Z
LAST-MODIFIED:20170628T120048Z
UID:7823-1505779200-1505865599@nea.mediweb.co
SUMMARY:Formation IVG médicamenteuse en ville
DESCRIPTION:La formation est organisée par le Réseau entre la Ville et l’Hôpital pour l’Orthogénie (REVHO) en partenariat avec le Réseau Périnatal de Champagne-Ardenne.\nPour télécharger le programme\, cliquez ici.\nPour plus d’informations \, veuillez contacter le Réseau Périnatal de Champagne-Ardenne au 03 26 78 78 69.\n 
URL:https://nea.mediweb.co/event/formation-ivg-medicamenteuse-en-ville-2/
LOCATION:Cité scolaire Edouard Herriot\, 8\, Rue de la Maladière\, Sainte Savine\, France
CATEGORIES:Evénements régionaux,Evenements du Réseau Naître en Alsace
ATTACH;FMTTYPE=image/jpeg:https://nea.mediweb.co/wp-content/uploads/2017/06/perinat-RPCA.jpg
END:VEVENT
END:VCALENDAR