BEGIN:VCALENDAR
VERSION:2.0
PRODID:-//Naître en Alsace - ECPv6.9.0//NONSGML v1.0//EN
CALSCALE:GREGORIAN
METHOD:PUBLISH
X-ORIGINAL-URL:https://nea.mediweb.co
X-WR-CALDESC:Évènements pour Naître en Alsace
REFRESH-INTERVAL;VALUE=DURATION:PT1H
X-Robots-Tag:noindex
X-PUBLISHED-TTL:PT1H
BEGIN:VTIMEZONE
TZID:Europe/Paris
BEGIN:DAYLIGHT
TZOFFSETFROM:+0100
TZOFFSETTO:+0200
TZNAME:CEST
DTSTART:20170326T010000
END:DAYLIGHT
BEGIN:STANDARD
TZOFFSETFROM:+0200
TZOFFSETTO:+0100
TZNAME:CET
DTSTART:20171029T010000
END:STANDARD
END:VTIMEZONE
BEGIN:VEVENT
DTSTART;VALUE=DATE:20170929
DTEND;VALUE=DATE:20170930
DTSTAMP:20260423T174746
CREATED:20170619T075755Z
LAST-MODIFIED:20170619T075755Z
UID:7820-1506643200-1506729599@nea.mediweb.co
SUMMARY:Rencontre Champardennaise du CNSF
DESCRIPTION:Rencontre Champardennaise du Collège National des Sages-Femmes de France (CNSF) organisée en partenariat avec le Réseau Périnatal de Champagne-Ardenne. \nTélécharger le programme.\nTélécharger le bulletin d’inscription.
URL:https://nea.mediweb.co/event/rencontre-champardennaise-du-cnsf-2/
LOCATION:Reims\, France
CATEGORIES:Evenements du Réseau Naître en Alsace,Evénements régionaux
ATTACH;FMTTYPE=image/png:https://nea.mediweb.co/wp-content/uploads/2017/06/CNSF_evts.png
END:VEVENT
BEGIN:VEVENT
DTSTART;VALUE=DATE:20170929
DTEND;VALUE=DATE:20170930
DTSTAMP:20260423T174746
CREATED:20170619T075755Z
LAST-MODIFIED:20170619T094928Z
UID:7013-1506643200-1506729599@nea.mediweb.co
SUMMARY:Rencontre Champardennaise du CNSF
DESCRIPTION:Rencontre Champardennaise du Collège National des Sages-Femmes de France (CNSF) organisée en partenariat avec le Réseau Périnatal de Champagne-Ardenne. \nTélécharger le programme.\nTélécharger le bulletin d’inscription.
URL:https://nea.mediweb.co/event/rencontre-champardennaise-du-cnsf/
LOCATION:Reims\, France
CATEGORIES:Evenements du Réseau Naître en Alsace,Evénements régionaux
ATTACH;FMTTYPE=image/png:https://nea.mediweb.co/wp-content/uploads/2017/06/CNSF_evts.png
END:VEVENT
END:VCALENDAR