BEGIN:VCALENDAR
VERSION:2.0
PRODID:-//Naître en Alsace - ECPv6.9.0//NONSGML v1.0//EN
CALSCALE:GREGORIAN
METHOD:PUBLISH
X-ORIGINAL-URL:https://nea.mediweb.co
X-WR-CALDESC:Évènements pour Naître en Alsace
REFRESH-INTERVAL;VALUE=DURATION:PT1H
X-Robots-Tag:noindex
X-PUBLISHED-TTL:PT1H
BEGIN:VTIMEZONE
TZID:Europe/Paris
BEGIN:DAYLIGHT
TZOFFSETFROM:+0100
TZOFFSETTO:+0200
TZNAME:CEST
DTSTART:20170326T010000
END:DAYLIGHT
BEGIN:STANDARD
TZOFFSETFROM:+0200
TZOFFSETTO:+0100
TZNAME:CET
DTSTART:20171029T010000
END:STANDARD
END:VTIMEZONE
BEGIN:VEVENT
DTSTART;VALUE=DATE:20171003
DTEND;VALUE=DATE:20171004
DTSTAMP:20260423T174748
CREATED:20170628T105321Z
LAST-MODIFIED:20170628T105321Z
UID:7024-1506988800-1507075199@nea.mediweb.co
SUMMARY:Après-midi de la Commission Vulnérabilité
DESCRIPTION:Après-midi d’échange et de retour d’expérience sur la prise en charge et l’accompagnement des femmes et des familles en situation de vulnérabilité. \nL’organisation du staff périnatalité au sein de leur établissement sera présenté par  : \n– Centre Mère-Enfant Le Parc (Christine Binder)\n– CH de Haguenau ( Véronique Legrand et Isabelle Kynigos)\n– PASS La Boussole (Geneviève Espinasse)\n– Clinique Sainte-Anne (David Sogne) \nPour confirmer votre présence\, cliquez ici.
URL:https://nea.mediweb.co/event/apres-midi-de-la-commission-vulnerabilite-3/
LOCATION:CMCO\, 19 rue louis pasteur\, Strasbourg\, Sélectionner un État :\, 67300\, France
CATEGORIES:Evénements régionaux,Evenements du Réseau Naître en Alsace
ATTACH;FMTTYPE=image/jpeg:https://nea.mediweb.co/wp-content/uploads/2015/07/AM_Vulnerabilite_evt-e1437639296148.jpg
END:VEVENT
BEGIN:VEVENT
DTSTART;VALUE=DATE:20171003
DTEND;VALUE=DATE:20171004
DTSTAMP:20260423T174748
CREATED:20170628T105321Z
LAST-MODIFIED:20170628T105321Z
UID:7822-1506988800-1507075199@nea.mediweb.co
SUMMARY:Après-midi de la Commission Vulnérabilité
DESCRIPTION:Après-midi d’échange et de retour d’expérience sur la prise en charge et l’accompagnement des femmes et des familles en situation de vulnérabilité. \nL’organisation du staff périnatalité au sein de leur établissement sera présenté par  :\n– Centre Mère-Enfant Le Parc (Christine Binder)\n– CH de Haguenau ( Véronique Legrand et Isabelle Kynigos)\n– PASS La Boussole (Geneviève Espinasse)\n– Clinique Sainte-Anne (David Sogne) \nPour confirmer votre présence\, cliquez ici.
URL:https://nea.mediweb.co/event/apres-midi-de-la-commission-vulnerabilite-3-2/
LOCATION:CMCO\, 19 rue louis pasteur\, Strasbourg\, Sélectionner un État :\, 67300\, France
CATEGORIES:Evénements régionaux,Evenements du Réseau Naître en Alsace
ATTACH;FMTTYPE=image/jpeg:https://nea.mediweb.co/wp-content/uploads/2015/07/AM_Vulnerabilite_evt-e1437639296148.jpg
END:VEVENT
END:VCALENDAR