BEGIN:VCALENDAR
VERSION:2.0
PRODID:-//Naître en Alsace - ECPv6.9.0//NONSGML v1.0//EN
CALSCALE:GREGORIAN
METHOD:PUBLISH
X-ORIGINAL-URL:https://nea.mediweb.co
X-WR-CALDESC:Évènements pour Naître en Alsace
REFRESH-INTERVAL;VALUE=DURATION:PT1H
X-Robots-Tag:noindex
X-PUBLISHED-TTL:PT1H
BEGIN:VTIMEZONE
TZID:Europe/Paris
BEGIN:DAYLIGHT
TZOFFSETFROM:+0100
TZOFFSETTO:+0200
TZNAME:CEST
DTSTART:20170326T010000
END:DAYLIGHT
BEGIN:STANDARD
TZOFFSETFROM:+0200
TZOFFSETTO:+0100
TZNAME:CET
DTSTART:20171029T010000
END:STANDARD
END:VTIMEZONE
BEGIN:VEVENT
DTSTART;VALUE=DATE:20171019
DTEND;VALUE=DATE:20171022
DTSTAMP:20260423T194231
CREATED:20170801T142744Z
LAST-MODIFIED:20170801T142744Z
UID:7101-1508371200-1508630399@nea.mediweb.co
SUMMARY:Congrès de la Fédération Nationale des Orthophonistes
DESCRIPTION:La Fédération Nationale des Orthophonistes organise son 27ème congrès scientifique international à Strasbourg\, les 19\, 20 et 21 octobre 2017 autour du thème « Les Oralités ». Les trois journées de conférences s’articuleront autour des axes suivants déclinés autour de l’enfant et de l’adulte : \n– Sensorialité\n– Langage oral\n– Prématurité\n– Difficultés alimentaires\n– Plaisir\n– Intervention orthophonique spécifique \nPour télécharger le programme\, cliquez ici.\nPour s’inscrire\, cliquez ici.
URL:https://nea.mediweb.co/event/congres-de-la-federation-nationale-des-orthophonistes/
LOCATION:Palais de la musique et des congrès\, Place de Bordeaux\, Strasbourg\, Sélectionner un État :\, 67000\, France
CATEGORIES:Evénements régionaux,Evenements du Réseau Naître en Alsace
ATTACH;FMTTYPE=image/jpeg:https://nea.mediweb.co/wp-content/uploads/2017/08/2017_10_FNO-e1501597523788.jpg
END:VEVENT
BEGIN:VEVENT
DTSTART;VALUE=DATE:20171019
DTEND;VALUE=DATE:20171022
DTSTAMP:20260423T194231
CREATED:20170801T142744Z
LAST-MODIFIED:20170801T142744Z
UID:7826-1508371200-1508630399@nea.mediweb.co
SUMMARY:Congrès de la Fédération Nationale des Orthophonistes
DESCRIPTION:La Fédération Nationale des Orthophonistes organise son 27ème congrès scientifique international à Strasbourg\, les 19\, 20 et 21 octobre 2017 autour du thème « Les Oralités ». Les trois journées de conférences s’articuleront autour des axes suivants déclinés autour de l’enfant et de l’adulte :\n– Sensorialité\n– Langage oral\n– Prématurité\n– Difficultés alimentaires\n– Plaisir\n– Intervention orthophonique spécifique\nPour télécharger le programme\, cliquez ici.\nPour s’inscrire\, cliquez ici.
URL:https://nea.mediweb.co/event/congres-de-la-federation-nationale-des-orthophonistes-2/
LOCATION:Palais de la musique et des congrès\, Place de Bordeaux\, Strasbourg\, Sélectionner un État :\, 67000\, France
CATEGORIES:Evénements régionaux,Evenements du Réseau Naître en Alsace
ATTACH;FMTTYPE=image/jpeg:https://nea.mediweb.co/wp-content/uploads/2017/08/2017_10_FNO-e1501597523788.jpg
END:VEVENT
BEGIN:VEVENT
DTSTART;VALUE=DATE:20171020
DTEND;VALUE=DATE:20171021
DTSTAMP:20260423T194231
CREATED:20170418T130959Z
LAST-MODIFIED:20171006T173740Z
UID:6787-1508457600-1508543999@nea.mediweb.co
SUMMARY:10e Journée de l'Observatoire de l'IVG
DESCRIPTION:Thème : IVG et inégalités dans le monde \nLa 10e Journée de la Commission IVG et Prévention du Réseau Naître en Alsace sera dédiée à Simone Veil et se déroulera sous la présidence du Pr Israël NISAND. \nTélécharger le programme\nTélécharger le bulletin d’inscription\nS’INSCRIRE EN LIGNE
URL:https://nea.mediweb.co/event/10e-journee-de-la-commission-ivg-et-prevention/
LOCATION:CIARUS\, 7 Rue Finkmatt\, Strasbourg\, France
CATEGORIES:Evénements régionaux,Evenements du Réseau Naître en Alsace
ATTACH;FMTTYPE=image/png:https://nea.mediweb.co/wp-content/uploads/2017/04/worldmap-dotted_avec_titre_evts-e1492520437502.png
END:VEVENT
BEGIN:VEVENT
DTSTART;VALUE=DATE:20171020
DTEND;VALUE=DATE:20171021
DTSTAMP:20260423T194231
CREATED:20170418T130959Z
LAST-MODIFIED:20170418T130959Z
UID:7814-1508457600-1508543999@nea.mediweb.co
SUMMARY:10e Journée de l'Observatoire de l'IVG
DESCRIPTION:Thème : IVG et inégalités dans le monde \nLa 10e Journée de la Commission IVG et Prévention du Réseau Naître en Alsace sera dédiée à Simone Veil et se déroulera sous la présidence du Pr Israël NISAND.\nTélécharger le programme\nTélécharger le bulletin d’inscription\nS’INSCRIRE EN LIGNE
URL:https://nea.mediweb.co/event/10e-journee-de-la-commission-ivg-et-prevention-2/
LOCATION:CIARUS\, 7 Rue Finkmatt\, Strasbourg\, France
CATEGORIES:Evénements régionaux,Evenements du Réseau Naître en Alsace
ATTACH;FMTTYPE=image/png:https://nea.mediweb.co/wp-content/uploads/2017/04/worldmap-dotted_avec_titre_evts-e1492520437502.png
END:VEVENT
END:VCALENDAR