BEGIN:VCALENDAR
VERSION:2.0
PRODID:-//Naître en Alsace - ECPv6.9.0//NONSGML v1.0//EN
CALSCALE:GREGORIAN
METHOD:PUBLISH
X-ORIGINAL-URL:https://nea.mediweb.co
X-WR-CALDESC:Évènements pour Naître en Alsace
REFRESH-INTERVAL;VALUE=DURATION:PT1H
X-Robots-Tag:noindex
X-PUBLISHED-TTL:PT1H
BEGIN:VTIMEZONE
TZID:Europe/Paris
BEGIN:DAYLIGHT
TZOFFSETFROM:+0100
TZOFFSETTO:+0200
TZNAME:CEST
DTSTART:20170326T010000
END:DAYLIGHT
BEGIN:STANDARD
TZOFFSETFROM:+0200
TZOFFSETTO:+0100
TZNAME:CET
DTSTART:20171029T010000
END:STANDARD
END:VTIMEZONE
BEGIN:VEVENT
DTSTART;TZID=Europe/Paris:20171130T140000
DTEND;TZID=Europe/Paris:20171130T170000
DTSTAMP:20260423T140308
CREATED:20171030T110314Z
LAST-MODIFIED:20171030T110314Z
UID:7201-1512050400-1512061200@nea.mediweb.co
SUMMARY:Équipes mobiles : du choc des cultures à la co-construction...
DESCRIPTION:Fort de l’expérience des équipes mobiles de chacun de ses quatre secteurs d’activité (santé\, enfance\, personnes âgées\, solidarité)\, la Fondation Vincent de Paul organise\, à Strasbourg\, le 30 novembre prochain une rencontre thématique intitulée : « Equipes mobiles : du choc des cultures à la co-construction… ». \nTélécharger le programme\nTélécharger le bulletin d’inscription
URL:https://nea.mediweb.co/event/equipes-mobiles-du-choc-des-cultures-a-la-co-construction/
LOCATION:Clinique Sainte-Barbe\, 29\, rue du Faubourg National\, Strasbourg\, France
CATEGORIES:Evénements régionaux,Evenements du Réseau Naître en Alsace
ATTACH;FMTTYPE=image/jpeg:https://nea.mediweb.co/wp-content/uploads/2017/10/2017_11_30_FVDP-e1509361366623.jpg
END:VEVENT
BEGIN:VEVENT
DTSTART;TZID=Europe/Paris:20171130T140000
DTEND;TZID=Europe/Paris:20171130T170000
DTSTAMP:20260423T140308
CREATED:20171030T110314Z
LAST-MODIFIED:20171030T110314Z
UID:7830-1512050400-1512061200@nea.mediweb.co
SUMMARY:Équipes mobiles : du choc des cultures à la co-construction...
DESCRIPTION:Fort de l’expérience des équipes mobiles de chacun de ses quatre secteurs d’activité (santé\, enfance\, personnes âgées\, solidarité)\, la Fondation Vincent de Paul organise\, à Strasbourg\, le 30 novembre prochain une rencontre thématique intitulée : « Equipes mobiles : du choc des cultures à la co-construction… ».\nTélécharger le programme\nTélécharger le bulletin d’inscription
URL:https://nea.mediweb.co/event/equipes-mobiles-du-choc-des-cultures-a-la-co-construction-2/
LOCATION:Clinique Sainte-Barbe\, 29\, rue du Faubourg National\, Strasbourg\, France
CATEGORIES:Evénements régionaux,Evenements du Réseau Naître en Alsace
ATTACH;FMTTYPE=image/jpeg:https://nea.mediweb.co/wp-content/uploads/2017/10/2017_11_30_FVDP-e1509361366623.jpg
END:VEVENT
END:VCALENDAR