BEGIN:VCALENDAR
VERSION:2.0
PRODID:-//Naître en Alsace - ECPv6.9.0//NONSGML v1.0//EN
CALSCALE:GREGORIAN
METHOD:PUBLISH
X-ORIGINAL-URL:https://nea.mediweb.co
X-WR-CALDESC:Évènements pour Naître en Alsace
REFRESH-INTERVAL;VALUE=DURATION:PT1H
X-Robots-Tag:noindex
X-PUBLISHED-TTL:PT1H
BEGIN:VTIMEZONE
TZID:Europe/Paris
BEGIN:DAYLIGHT
TZOFFSETFROM:+0100
TZOFFSETTO:+0200
TZNAME:CEST
DTSTART:20170326T010000
END:DAYLIGHT
BEGIN:STANDARD
TZOFFSETFROM:+0200
TZOFFSETTO:+0100
TZNAME:CET
DTSTART:20171029T010000
END:STANDARD
END:VTIMEZONE
BEGIN:VEVENT
DTSTART;TZID=Europe/Paris:20171212T160000
DTEND;TZID=Europe/Paris:20171212T180000
DTSTAMP:20260423T140308
CREATED:20170831T090723Z
LAST-MODIFIED:20170831T090723Z
UID:7827-1513094400-1513101600@nea.mediweb.co
SUMMARY:Protocoles de gynécologie-obstétrique
DESCRIPTION:Réunion du groupe de travail Protocoles de gynécologie-obstétrique du réseau périnatal Naître en Alsace.\nEn visioconférence.\nOrdre du jour :\n– Diabète et grossesse\n– Corticothérapie anténatale\n– Prévention des infections néonatales\n– Détermination du génotype RHD fœtal dans le sang maternel \nContact : Geneviève Creutzmeyer | 03 69 55 35 74
URL:https://nea.mediweb.co/event/protocoles-de-gynecologie-obstetrique-2/
LOCATION:Sélectionner un État :
CATEGORIES:Evénements régionaux,Evenements du Réseau Naître en Alsace
END:VEVENT
BEGIN:VEVENT
DTSTART;TZID=Europe/Paris:20171212T160000
DTEND;TZID=Europe/Paris:20171212T180000
DTSTAMP:20260423T140308
CREATED:20170831T090723Z
LAST-MODIFIED:20171201T134620Z
UID:7112-1513094400-1513101600@nea.mediweb.co
SUMMARY:Protocoles de gynécologie-obstétrique
DESCRIPTION:Réunion du groupe de travail Protocoles de gynécologie-obstétrique du réseau périnatal Naître en Alsace.\nEn visioconférence. \nOrdre du jour : \n– Diabète et grossesse\n– Corticothérapie anténatale\n– Prévention des infections néonatales\n– Détermination du génotype RHD fœtal dans le sang maternel \nContact : Geneviève Creutzmeyer | 03 69 55 35 74
URL:https://nea.mediweb.co/event/protocoles-de-gynecologie-obstetrique/
LOCATION:Sélectionner un État :
CATEGORIES:Evénements régionaux,Evenements du Réseau Naître en Alsace
END:VEVENT
END:VCALENDAR