BEGIN:VCALENDAR
VERSION:2.0
PRODID:-//Naître en Alsace - ECPv6.9.0//NONSGML v1.0//EN
CALSCALE:GREGORIAN
METHOD:PUBLISH
X-ORIGINAL-URL:https://nea.mediweb.co
X-WR-CALDESC:Évènements pour Naître en Alsace
REFRESH-INTERVAL;VALUE=DURATION:PT1H
X-Robots-Tag:noindex
X-PUBLISHED-TTL:PT1H
BEGIN:VTIMEZONE
TZID:Europe/Paris
BEGIN:DAYLIGHT
TZOFFSETFROM:+0100
TZOFFSETTO:+0200
TZNAME:CEST
DTSTART:20180325T010000
END:DAYLIGHT
BEGIN:STANDARD
TZOFFSETFROM:+0200
TZOFFSETTO:+0100
TZNAME:CET
DTSTART:20181028T010000
END:STANDARD
END:VTIMEZONE
BEGIN:VEVENT
DTSTART;VALUE=DATE:20180210
DTEND;VALUE=DATE:20180212
DTSTAMP:20260423T103131
CREATED:20171106T150240Z
LAST-MODIFIED:20171106T150240Z
UID:7835-1518220800-1518393599@nea.mediweb.co
SUMMARY:Les Bases de la connaissance en matière de violences sexuelles
DESCRIPTION:Formation pour toute personne désireuse d’approfondir ses connaissances en matière de violences sexuelles. Le minimum de connaissances épidémiologiques\, juridiques\, sociologiques et scientifiques à acquérir pour se sentir à l’aise avec le sujet des violences sexuelles. Formation tout public\, gratuite.\nPour télécharger le programme\, cliquez ici.\npour en savoir plus\, cliquez ici.
URL:https://nea.mediweb.co/event/les-bases-de-la-connaissance-en-matiere-de-violences-sexuelles-2/
LOCATION:Restaurant La Halles aux Blés\, Place du Marché\, Obernai\, France
CATEGORIES:Evenements du Réseau Naître en Alsace,Evénements régionaux
ATTACH;FMTTYPE=image/jpeg:https://nea.mediweb.co/wp-content/uploads/2017/11/2018_02_Violences_sexuelles.jpg
END:VEVENT
BEGIN:VEVENT
DTSTART;VALUE=DATE:20180210
DTEND;VALUE=DATE:20180212
DTSTAMP:20260423T103131
CREATED:20171106T150240Z
LAST-MODIFIED:20171106T150240Z
UID:7224-1518220800-1518393599@nea.mediweb.co
SUMMARY:Les Bases de la connaissance en matière de violences sexuelles
DESCRIPTION:Formation pour toute personne désireuse d’approfondir ses connaissances en matière de violences sexuelles. Le minimum de connaissances épidémiologiques\, juridiques\, sociologiques et scientifiques à acquérir pour se sentir à l’aise avec le sujet des violences sexuelles. Formation tout public\, gratuite. \nPour télécharger le programme\, cliquez ici.\npour en savoir plus\, cliquez ici.
URL:https://nea.mediweb.co/event/les-bases-de-la-connaissance-en-matiere-de-violences-sexuelles/
LOCATION:Restaurant La Halles aux Blés\, Place du Marché\, Obernai\, France
CATEGORIES:Evenements du Réseau Naître en Alsace,Evénements régionaux
ATTACH;FMTTYPE=image/jpeg:https://nea.mediweb.co/wp-content/uploads/2017/11/2018_02_Violences_sexuelles.jpg
END:VEVENT
END:VCALENDAR