BEGIN:VCALENDAR
VERSION:2.0
PRODID:-//Naître en Alsace - ECPv6.9.0//NONSGML v1.0//EN
CALSCALE:GREGORIAN
METHOD:PUBLISH
X-ORIGINAL-URL:https://nea.mediweb.co
X-WR-CALDESC:Évènements pour Naître en Alsace
REFRESH-INTERVAL;VALUE=DURATION:PT1H
X-Robots-Tag:noindex
X-PUBLISHED-TTL:PT1H
BEGIN:VTIMEZONE
TZID:Europe/Paris
BEGIN:DAYLIGHT
TZOFFSETFROM:+0100
TZOFFSETTO:+0200
TZNAME:CEST
DTSTART:20180325T010000
END:DAYLIGHT
BEGIN:STANDARD
TZOFFSETFROM:+0200
TZOFFSETTO:+0100
TZNAME:CET
DTSTART:20181028T010000
END:STANDARD
END:VTIMEZONE
BEGIN:VEVENT
DTSTART;VALUE=DATE:20180412
DTEND;VALUE=DATE:20180413
DTSTAMP:20260423T042116
CREATED:20180319T140140Z
LAST-MODIFIED:20180319T140307Z
UID:7395-1523491200-1523577599@nea.mediweb.co
SUMMARY:Échange d'informations\, secret partagé : pratique versus loi
DESCRIPTION:Journée d’étude juridique destinée aux professionnels de la santé\, au personnel des secteurs sanitaire\, medico-social et social mais aussi à toute autre personne souhaitant en savoir plus sur l’échange d’informations et le secret partagé. \nCette année\, trois axes seront abordés sur ces thématiques : le point de vue des acteurs en ville\, le point de vue des acteurs du medico-social et celui des acteurs des établissements sanitaires. La matinée sera organisée en tables rondes et l’après-midi sera partagé en ateliers avec\, bien entendu\, plusieurs pauses gourmandes pour favoriser des échanges en toute convivialité. À l’issue des ateliers\, les échanges rapportés serviront de base pour une remontée au Ministère et ainsi\, tenter de faire modifier les textes de Loi qui sont parfois en décalage par rapport à la pratique des professionnels. \nPour télécharger le programme\, cliquez ici.\nPour vous inscrire\, cliquez ici.
URL:https://nea.mediweb.co/event/echange-dinformations-secret-partage-pratique-versus-loi/
LOCATION:Sélectionner un État :
CATEGORIES:Evénements régionaux,Evenements du Réseau Naître en Alsace
ATTACH;FMTTYPE=image/jpeg:https://nea.mediweb.co/wp-content/uploads/2018/03/2018_04_JEJ-e1521468072288.jpg
END:VEVENT
BEGIN:VEVENT
DTSTART;VALUE=DATE:20180412
DTEND;VALUE=DATE:20180413
DTSTAMP:20260423T042116
CREATED:20180319T140140Z
LAST-MODIFIED:20180319T140140Z
UID:7852-1523491200-1523577599@nea.mediweb.co
SUMMARY:Échange d'informations\, secret partagé : pratique versus loi
DESCRIPTION:Journée d’étude juridique destinée aux professionnels de la santé\, au personnel des secteurs sanitaire\, medico-social et social mais aussi à toute autre personne souhaitant en savoir plus sur l’échange d’informations et le secret partagé.\nCette année\, trois axes seront abordés sur ces thématiques : le point de vue des acteurs en ville\, le point de vue des acteurs du medico-social et celui des acteurs des établissements sanitaires. La matinée sera organisée en tables rondes et l’après-midi sera partagé en ateliers avec\, bien entendu\, plusieurs pauses gourmandes pour favoriser des échanges en toute convivialité. À l’issue des ateliers\, les échanges rapportés serviront de base pour une remontée au Ministère et ainsi\, tenter de faire modifier les textes de Loi qui sont parfois en décalage par rapport à la pratique des professionnels.\nPour télécharger le programme\, cliquez ici.\nPour vous inscrire\, cliquez ici.
URL:https://nea.mediweb.co/event/echange-dinformations-secret-partage-pratique-versus-loi-3/
LOCATION:Sélectionner un État :
CATEGORIES:Evénements régionaux,Evenements du Réseau Naître en Alsace
ATTACH;FMTTYPE=image/jpeg:https://nea.mediweb.co/wp-content/uploads/2018/03/2018_04_JEJ-e1521468072288.jpg
END:VEVENT
BEGIN:VEVENT
DTSTART;VALUE=DATE:20180412
DTEND;VALUE=DATE:20180413
DTSTAMP:20260423T042116
CREATED:20180618T141437Z
LAST-MODIFIED:20180618T141437Z
UID:7680-1523491200-1523577599@nea.mediweb.co
SUMMARY:Échange d'informations\, secret partagé : pratique versus loi
DESCRIPTION:Journée d’étude juridique destinée aux professionnels de la santé\, au personnel des secteurs sanitaire\, medico-social et social mais aussi à toute autre personne souhaitant en savoir plus sur l’échange d’informations et le secret partagé. \nCette année\, trois axes seront abordés sur ces thématiques : le point de vue des acteurs en ville\, le point de vue des acteurs du medico-social et celui des acteurs des établissements sanitaires. La matinée sera organisée en tables rondes et l’après-midi sera partagé en ateliers avec\, bien entendu\, plusieurs pauses gourmandes pour favoriser des échanges en toute convivialité. À l’issue des ateliers\, les échanges rapportés serviront de base pour une remontée au Ministère et ainsi\, tenter de faire modifier les textes de Loi qui sont parfois en décalage par rapport à la pratique des professionnels. \nPour télécharger le programme\, cliquez ici.\nPour vous inscrire\, cliquez ici.
URL:https://nea.mediweb.co/event/echange-dinformations-secret-partage-pratique-versus-loi-2/
LOCATION:Sélectionner un État :
CATEGORIES:Evénements régionaux,Evenements du Réseau Naître en Alsace
END:VEVENT
END:VCALENDAR