BEGIN:VCALENDAR
VERSION:2.0
PRODID:-//Naître en Alsace - ECPv6.9.0//NONSGML v1.0//EN
CALSCALE:GREGORIAN
METHOD:PUBLISH
X-WR-CALNAME:Naître en Alsace
X-ORIGINAL-URL:https://nea.mediweb.co
X-WR-CALDESC:Évènements pour Naître en Alsace
REFRESH-INTERVAL;VALUE=DURATION:PT1H
X-Robots-Tag:noindex
X-PUBLISHED-TTL:PT1H
BEGIN:VTIMEZONE
TZID:Europe/Paris
BEGIN:DAYLIGHT
TZOFFSETFROM:+0100
TZOFFSETTO:+0200
TZNAME:CEST
DTSTART:20180325T010000
END:DAYLIGHT
BEGIN:STANDARD
TZOFFSETFROM:+0200
TZOFFSETTO:+0100
TZNAME:CET
DTSTART:20181028T010000
END:STANDARD
END:VTIMEZONE
BEGIN:VEVENT
DTSTART;VALUE=DATE:20180614
DTEND;VALUE=DATE:20180616
DTSTAMP:20260423T004022
CREATED:20180502T114809Z
LAST-MODIFIED:20180502T114809Z
UID:7861-1528934400-1529107199@nea.mediweb.co
SUMMARY:Journées CGOA
DESCRIPTION:19es Journées du Collège des Gynécologues Obstétriciens d’Alsace\nPour télécharger le programme\, cliquez ici.\nPour vous inscrire\, cliquez ici.
URL:https://nea.mediweb.co/event/journees-cgoa/
LOCATION:L’Illiade\, 11 allée François Mitterrand\, Illkirch-Graffenstaden\, 67400\, France
CATEGORIES:Evénements régionaux,Evenements du Réseau Naître en Alsace
ATTACH;FMTTYPE=:
END:VEVENT
END:VCALENDAR